BEGIN:VCALENDAR
VERSION:2.0
PRODID:-//All Saints&#039; Church, Gresford - ECPv6.9.0//NONSGML v1.0//EN
CALSCALE:GREGORIAN
METHOD:PUBLISH
X-WR-CALNAME:All Saints&#039; Church, Gresford
X-ORIGINAL-URL:https://www.allsaintschurchgresford.org.uk
X-WR-CALDESC:Events for All Saints&#039; Church, Gresford
REFRESH-INTERVAL;VALUE=DURATION:PT1H
X-Robots-Tag:noindex
X-PUBLISHED-TTL:PT1H
BEGIN:VTIMEZONE
TZID:Europe/London
BEGIN:DAYLIGHT
TZOFFSETFROM:+0000
TZOFFSETTO:+0100
TZNAME:BST
DTSTART:20260329T010000
END:DAYLIGHT
BEGIN:STANDARD
TZOFFSETFROM:+0100
TZOFFSETTO:+0000
TZNAME:GMT
DTSTART:20261025T010000
END:STANDARD
END:VTIMEZONE
BEGIN:VEVENT
DTSTART;TZID=Europe/London:20260314T110000
DTEND;TZID=Europe/London:20260314T140000
DTSTAMP:20260423T190857
CREATED:20260209T100418Z
LAST-MODIFIED:20260209T100704Z
UID:10001978-1773486000-1773496800@www.allsaintschurchgresford.org.uk
SUMMARY:Spring Fayre- a little advance notice!
DESCRIPTION:Screenshot
URL:https://www.allsaintschurchgresford.org.uk/event/spring-fayre-a-little-advance-notice/
LOCATION:All Saints’ Church\, Gresford\, The Green\, Gresford\, Wrexham\, Wrexham\, LL12 8RG\, United Kingdom
CATEGORIES:Community Events
END:VEVENT
END:VCALENDAR