BEGIN:VCALENDAR
VERSION:2.0
PRODID:-//All Saints&#039; Church, Gresford - ECPv6.9.0//NONSGML v1.0//EN
CALSCALE:GREGORIAN
METHOD:PUBLISH
X-WR-CALNAME:All Saints&#039; Church, Gresford
X-ORIGINAL-URL:https://www.allsaintschurchgresford.org.uk
X-WR-CALDESC:Events for All Saints&#039; Church, Gresford
REFRESH-INTERVAL;VALUE=DURATION:PT1H
X-Robots-Tag:noindex
X-PUBLISHED-TTL:PT1H
BEGIN:VTIMEZONE
TZID:Europe/London
BEGIN:DAYLIGHT
TZOFFSETFROM:+0000
TZOFFSETTO:+0100
TZNAME:BST
DTSTART:20260329T010000
END:DAYLIGHT
BEGIN:STANDARD
TZOFFSETFROM:+0100
TZOFFSETTO:+0000
TZNAME:GMT
DTSTART:20261025T010000
END:STANDARD
END:VTIMEZONE
BEGIN:VEVENT
DTSTART;TZID=Europe/London:20260426T080000
DTEND;TZID=Europe/London:20260426T090000
DTSTAMP:20260424T005117
CREATED:20241210T225646Z
LAST-MODIFIED:20241211T154948Z
UID:10000855-1777190400-1777194000@www.allsaintschurchgresford.org.uk
SUMMARY:Sunday Worship: Parish Eucharist
DESCRIPTION:
URL:https://www.allsaintschurchgresford.org.uk/event/sunday-worship-parish-eucharist/2026-04-26/
LOCATION:All Saints’ Church\, Gresford\, The Green\, Gresford\, Wrexham\, Wrexham\, LL12 8RG\, United Kingdom
CATEGORIES:Church Services
END:VEVENT
BEGIN:VEVENT
DTSTART;TZID=Europe/London:20260426T110000
DTEND;TZID=Europe/London:20260426T120000
DTSTAMP:20260424T005117
CREATED:20241210T230612Z
LAST-MODIFIED:20250528T195704Z
UID:10001116-1777201200-1777204800@www.allsaintschurchgresford.org.uk
SUMMARY:Sunday Worship: Parish Eucharist (Family Eucharist 1st Sunday of the month)
DESCRIPTION:
URL:https://www.allsaintschurchgresford.org.uk/event/sunday-worship-parish-eucharist-2/2026-04-26/
LOCATION:All Saints’ Church\, Gresford\, The Green\, Gresford\, Wrexham\, Wrexham\, LL12 8RG\, United Kingdom
CATEGORIES:Church Services
END:VEVENT
BEGIN:VEVENT
DTSTART;TZID=Europe/London:20260429T100000
DTEND;TZID=Europe/London:20260429T110000
DTSTAMP:20260424T005117
CREATED:20250502T105136Z
LAST-MODIFIED:20250502T105300Z
UID:10001622-1777456800-1777460400@www.allsaintschurchgresford.org.uk
SUMMARY:Mid-Week Service: Holy Eucharist
DESCRIPTION:
URL:https://www.allsaintschurchgresford.org.uk/event/mid-week-service-holy-eucharist-2/2026-04-29/
LOCATION:All Saints’ Church\, Gresford\, The Green\, Gresford\, Wrexham\, Wrexham\, LL12 8RG\, United Kingdom
CATEGORIES:Church Services
END:VEVENT
BEGIN:VEVENT
DTSTART;TZID=Europe/London:20260503T080000
DTEND;TZID=Europe/London:20260503T090000
DTSTAMP:20260424T005117
CREATED:20241210T225646Z
LAST-MODIFIED:20241211T154948Z
UID:10000856-1777795200-1777798800@www.allsaintschurchgresford.org.uk
SUMMARY:Sunday Worship: Parish Eucharist
DESCRIPTION:
URL:https://www.allsaintschurchgresford.org.uk/event/sunday-worship-parish-eucharist/2026-05-03/
LOCATION:All Saints’ Church\, Gresford\, The Green\, Gresford\, Wrexham\, Wrexham\, LL12 8RG\, United Kingdom
CATEGORIES:Church Services
END:VEVENT
BEGIN:VEVENT
DTSTART;TZID=Europe/London:20260503T110000
DTEND;TZID=Europe/London:20260503T120000
DTSTAMP:20260424T005117
CREATED:20241210T230612Z
LAST-MODIFIED:20250528T195704Z
UID:10001117-1777806000-1777809600@www.allsaintschurchgresford.org.uk
SUMMARY:Sunday Worship: Parish Eucharist (Family Eucharist 1st Sunday of the month)
DESCRIPTION:
URL:https://www.allsaintschurchgresford.org.uk/event/sunday-worship-parish-eucharist-2/2026-05-03/
LOCATION:All Saints’ Church\, Gresford\, The Green\, Gresford\, Wrexham\, Wrexham\, LL12 8RG\, United Kingdom
CATEGORIES:Church Services
END:VEVENT
BEGIN:VEVENT
DTSTART;TZID=Europe/London:20260506T100000
DTEND;TZID=Europe/London:20260506T110000
DTSTAMP:20260424T005117
CREATED:20250502T105136Z
LAST-MODIFIED:20250502T105300Z
UID:10001623-1778061600-1778065200@www.allsaintschurchgresford.org.uk
SUMMARY:Mid-Week Service: Holy Eucharist
DESCRIPTION:
URL:https://www.allsaintschurchgresford.org.uk/event/mid-week-service-holy-eucharist-2/2026-05-06/
LOCATION:All Saints’ Church\, Gresford\, The Green\, Gresford\, Wrexham\, Wrexham\, LL12 8RG\, United Kingdom
CATEGORIES:Church Services
END:VEVENT
BEGIN:VEVENT
DTSTART;TZID=Europe/London:20260510T080000
DTEND;TZID=Europe/London:20260510T090000
DTSTAMP:20260424T005117
CREATED:20241210T225646Z
LAST-MODIFIED:20241211T154948Z
UID:10000857-1778400000-1778403600@www.allsaintschurchgresford.org.uk
SUMMARY:Sunday Worship: Parish Eucharist
DESCRIPTION:
URL:https://www.allsaintschurchgresford.org.uk/event/sunday-worship-parish-eucharist/2026-05-10/
LOCATION:All Saints’ Church\, Gresford\, The Green\, Gresford\, Wrexham\, Wrexham\, LL12 8RG\, United Kingdom
CATEGORIES:Church Services
END:VEVENT
BEGIN:VEVENT
DTSTART;TZID=Europe/London:20260510T110000
DTEND;TZID=Europe/London:20260510T120000
DTSTAMP:20260424T005117
CREATED:20241210T230612Z
LAST-MODIFIED:20250528T195704Z
UID:10001118-1778410800-1778414400@www.allsaintschurchgresford.org.uk
SUMMARY:Sunday Worship: Parish Eucharist (Family Eucharist 1st Sunday of the month)
DESCRIPTION:
URL:https://www.allsaintschurchgresford.org.uk/event/sunday-worship-parish-eucharist-2/2026-05-10/
LOCATION:All Saints’ Church\, Gresford\, The Green\, Gresford\, Wrexham\, Wrexham\, LL12 8RG\, United Kingdom
CATEGORIES:Church Services
END:VEVENT
BEGIN:VEVENT
DTSTART;TZID=Europe/London:20260513T100000
DTEND;TZID=Europe/London:20260513T110000
DTSTAMP:20260424T005117
CREATED:20250502T105136Z
LAST-MODIFIED:20250502T105300Z
UID:10001624-1778666400-1778670000@www.allsaintschurchgresford.org.uk
SUMMARY:Mid-Week Service: Holy Eucharist
DESCRIPTION:
URL:https://www.allsaintschurchgresford.org.uk/event/mid-week-service-holy-eucharist-2/2026-05-13/
LOCATION:All Saints’ Church\, Gresford\, The Green\, Gresford\, Wrexham\, Wrexham\, LL12 8RG\, United Kingdom
CATEGORIES:Church Services
END:VEVENT
BEGIN:VEVENT
DTSTART;TZID=Europe/London:20260517T080000
DTEND;TZID=Europe/London:20260517T090000
DTSTAMP:20260424T005117
CREATED:20241210T225646Z
LAST-MODIFIED:20241211T154948Z
UID:10000858-1779004800-1779008400@www.allsaintschurchgresford.org.uk
SUMMARY:Sunday Worship: Parish Eucharist
DESCRIPTION:
URL:https://www.allsaintschurchgresford.org.uk/event/sunday-worship-parish-eucharist/2026-05-17/
LOCATION:All Saints’ Church\, Gresford\, The Green\, Gresford\, Wrexham\, Wrexham\, LL12 8RG\, United Kingdom
CATEGORIES:Church Services
END:VEVENT
BEGIN:VEVENT
DTSTART;TZID=Europe/London:20260517T110000
DTEND;TZID=Europe/London:20260517T120000
DTSTAMP:20260424T005117
CREATED:20241210T230612Z
LAST-MODIFIED:20250528T195704Z
UID:10001119-1779015600-1779019200@www.allsaintschurchgresford.org.uk
SUMMARY:Sunday Worship: Parish Eucharist (Family Eucharist 1st Sunday of the month)
DESCRIPTION:
URL:https://www.allsaintschurchgresford.org.uk/event/sunday-worship-parish-eucharist-2/2026-05-17/
LOCATION:All Saints’ Church\, Gresford\, The Green\, Gresford\, Wrexham\, Wrexham\, LL12 8RG\, United Kingdom
CATEGORIES:Church Services
END:VEVENT
BEGIN:VEVENT
DTSTART;TZID=Europe/London:20260520T100000
DTEND;TZID=Europe/London:20260520T110000
DTSTAMP:20260424T005117
CREATED:20250502T105136Z
LAST-MODIFIED:20250502T105300Z
UID:10001625-1779271200-1779274800@www.allsaintschurchgresford.org.uk
SUMMARY:Mid-Week Service: Holy Eucharist
DESCRIPTION:
URL:https://www.allsaintschurchgresford.org.uk/event/mid-week-service-holy-eucharist-2/2026-05-20/
LOCATION:All Saints’ Church\, Gresford\, The Green\, Gresford\, Wrexham\, Wrexham\, LL12 8RG\, United Kingdom
CATEGORIES:Church Services
END:VEVENT
BEGIN:VEVENT
DTSTART;TZID=Europe/London:20260524T080000
DTEND;TZID=Europe/London:20260524T090000
DTSTAMP:20260424T005117
CREATED:20241210T225646Z
LAST-MODIFIED:20241211T154948Z
UID:10000859-1779609600-1779613200@www.allsaintschurchgresford.org.uk
SUMMARY:Sunday Worship: Parish Eucharist
DESCRIPTION:
URL:https://www.allsaintschurchgresford.org.uk/event/sunday-worship-parish-eucharist/2026-05-24/
LOCATION:All Saints’ Church\, Gresford\, The Green\, Gresford\, Wrexham\, Wrexham\, LL12 8RG\, United Kingdom
CATEGORIES:Church Services
END:VEVENT
BEGIN:VEVENT
DTSTART;TZID=Europe/London:20260524T110000
DTEND;TZID=Europe/London:20260524T120000
DTSTAMP:20260424T005117
CREATED:20241210T230612Z
LAST-MODIFIED:20250528T195704Z
UID:10001120-1779620400-1779624000@www.allsaintschurchgresford.org.uk
SUMMARY:Sunday Worship: Parish Eucharist (Family Eucharist 1st Sunday of the month)
DESCRIPTION:
URL:https://www.allsaintschurchgresford.org.uk/event/sunday-worship-parish-eucharist-2/2026-05-24/
LOCATION:All Saints’ Church\, Gresford\, The Green\, Gresford\, Wrexham\, Wrexham\, LL12 8RG\, United Kingdom
CATEGORIES:Church Services
END:VEVENT
BEGIN:VEVENT
DTSTART;TZID=Europe/London:20260527T100000
DTEND;TZID=Europe/London:20260527T110000
DTSTAMP:20260424T005117
CREATED:20250502T105136Z
LAST-MODIFIED:20250502T105300Z
UID:10001626-1779876000-1779879600@www.allsaintschurchgresford.org.uk
SUMMARY:Mid-Week Service: Holy Eucharist
DESCRIPTION:
URL:https://www.allsaintschurchgresford.org.uk/event/mid-week-service-holy-eucharist-2/2026-05-27/
LOCATION:All Saints’ Church\, Gresford\, The Green\, Gresford\, Wrexham\, Wrexham\, LL12 8RG\, United Kingdom
CATEGORIES:Church Services
END:VEVENT
BEGIN:VEVENT
DTSTART;TZID=Europe/London:20260531T080000
DTEND;TZID=Europe/London:20260531T090000
DTSTAMP:20260424T005117
CREATED:20241210T225646Z
LAST-MODIFIED:20241211T154948Z
UID:10000860-1780214400-1780218000@www.allsaintschurchgresford.org.uk
SUMMARY:Sunday Worship: Parish Eucharist
DESCRIPTION:
URL:https://www.allsaintschurchgresford.org.uk/event/sunday-worship-parish-eucharist/2026-05-31/
LOCATION:All Saints’ Church\, Gresford\, The Green\, Gresford\, Wrexham\, Wrexham\, LL12 8RG\, United Kingdom
CATEGORIES:Church Services
END:VEVENT
BEGIN:VEVENT
DTSTART;TZID=Europe/London:20260531T110000
DTEND;TZID=Europe/London:20260531T120000
DTSTAMP:20260424T005117
CREATED:20241210T230612Z
LAST-MODIFIED:20250528T195704Z
UID:10001121-1780225200-1780228800@www.allsaintschurchgresford.org.uk
SUMMARY:Sunday Worship: Parish Eucharist (Family Eucharist 1st Sunday of the month)
DESCRIPTION:
URL:https://www.allsaintschurchgresford.org.uk/event/sunday-worship-parish-eucharist-2/2026-05-31/
LOCATION:All Saints’ Church\, Gresford\, The Green\, Gresford\, Wrexham\, Wrexham\, LL12 8RG\, United Kingdom
CATEGORIES:Church Services
END:VEVENT
BEGIN:VEVENT
DTSTART;TZID=Europe/London:20260603T100000
DTEND;TZID=Europe/London:20260603T110000
DTSTAMP:20260424T005117
CREATED:20250502T105136Z
LAST-MODIFIED:20250502T105300Z
UID:10001627-1780480800-1780484400@www.allsaintschurchgresford.org.uk
SUMMARY:Mid-Week Service: Holy Eucharist
DESCRIPTION:
URL:https://www.allsaintschurchgresford.org.uk/event/mid-week-service-holy-eucharist-2/2026-06-03/
LOCATION:All Saints’ Church\, Gresford\, The Green\, Gresford\, Wrexham\, Wrexham\, LL12 8RG\, United Kingdom
CATEGORIES:Church Services
END:VEVENT
BEGIN:VEVENT
DTSTART;TZID=Europe/London:20260607T080000
DTEND;TZID=Europe/London:20260607T090000
DTSTAMP:20260424T005117
CREATED:20241210T225646Z
LAST-MODIFIED:20241211T154948Z
UID:10000861-1780819200-1780822800@www.allsaintschurchgresford.org.uk
SUMMARY:Sunday Worship: Parish Eucharist
DESCRIPTION:
URL:https://www.allsaintschurchgresford.org.uk/event/sunday-worship-parish-eucharist/2026-06-07/
LOCATION:All Saints’ Church\, Gresford\, The Green\, Gresford\, Wrexham\, Wrexham\, LL12 8RG\, United Kingdom
CATEGORIES:Church Services
END:VEVENT
BEGIN:VEVENT
DTSTART;TZID=Europe/London:20260607T110000
DTEND;TZID=Europe/London:20260607T120000
DTSTAMP:20260424T005117
CREATED:20241210T230612Z
LAST-MODIFIED:20250528T195704Z
UID:10001122-1780830000-1780833600@www.allsaintschurchgresford.org.uk
SUMMARY:Sunday Worship: Parish Eucharist (Family Eucharist 1st Sunday of the month)
DESCRIPTION:
URL:https://www.allsaintschurchgresford.org.uk/event/sunday-worship-parish-eucharist-2/2026-06-07/
LOCATION:All Saints’ Church\, Gresford\, The Green\, Gresford\, Wrexham\, Wrexham\, LL12 8RG\, United Kingdom
CATEGORIES:Church Services
END:VEVENT
BEGIN:VEVENT
DTSTART;TZID=Europe/London:20260610T100000
DTEND;TZID=Europe/London:20260610T110000
DTSTAMP:20260424T005117
CREATED:20250502T105136Z
LAST-MODIFIED:20250502T105300Z
UID:10001628-1781085600-1781089200@www.allsaintschurchgresford.org.uk
SUMMARY:Mid-Week Service: Holy Eucharist
DESCRIPTION:
URL:https://www.allsaintschurchgresford.org.uk/event/mid-week-service-holy-eucharist-2/2026-06-10/
LOCATION:All Saints’ Church\, Gresford\, The Green\, Gresford\, Wrexham\, Wrexham\, LL12 8RG\, United Kingdom
CATEGORIES:Church Services
END:VEVENT
BEGIN:VEVENT
DTSTART;TZID=Europe/London:20260614T080000
DTEND;TZID=Europe/London:20260614T090000
DTSTAMP:20260424T005117
CREATED:20241210T225646Z
LAST-MODIFIED:20241211T154948Z
UID:10000862-1781424000-1781427600@www.allsaintschurchgresford.org.uk
SUMMARY:Sunday Worship: Parish Eucharist
DESCRIPTION:
URL:https://www.allsaintschurchgresford.org.uk/event/sunday-worship-parish-eucharist/2026-06-14/
LOCATION:All Saints’ Church\, Gresford\, The Green\, Gresford\, Wrexham\, Wrexham\, LL12 8RG\, United Kingdom
CATEGORIES:Church Services
END:VEVENT
BEGIN:VEVENT
DTSTART;TZID=Europe/London:20260614T110000
DTEND;TZID=Europe/London:20260614T120000
DTSTAMP:20260424T005117
CREATED:20241210T230612Z
LAST-MODIFIED:20250528T195704Z
UID:10001123-1781434800-1781438400@www.allsaintschurchgresford.org.uk
SUMMARY:Sunday Worship: Parish Eucharist (Family Eucharist 1st Sunday of the month)
DESCRIPTION:
URL:https://www.allsaintschurchgresford.org.uk/event/sunday-worship-parish-eucharist-2/2026-06-14/
LOCATION:All Saints’ Church\, Gresford\, The Green\, Gresford\, Wrexham\, Wrexham\, LL12 8RG\, United Kingdom
CATEGORIES:Church Services
END:VEVENT
BEGIN:VEVENT
DTSTART;TZID=Europe/London:20260617T100000
DTEND;TZID=Europe/London:20260617T110000
DTSTAMP:20260424T005117
CREATED:20250502T105136Z
LAST-MODIFIED:20250502T105300Z
UID:10001629-1781690400-1781694000@www.allsaintschurchgresford.org.uk
SUMMARY:Mid-Week Service: Holy Eucharist
DESCRIPTION:
URL:https://www.allsaintschurchgresford.org.uk/event/mid-week-service-holy-eucharist-2/2026-06-17/
LOCATION:All Saints’ Church\, Gresford\, The Green\, Gresford\, Wrexham\, Wrexham\, LL12 8RG\, United Kingdom
CATEGORIES:Church Services
END:VEVENT
BEGIN:VEVENT
DTSTART;TZID=Europe/London:20260621T080000
DTEND;TZID=Europe/London:20260621T090000
DTSTAMP:20260424T005117
CREATED:20241210T225646Z
LAST-MODIFIED:20241211T154948Z
UID:10000863-1782028800-1782032400@www.allsaintschurchgresford.org.uk
SUMMARY:Sunday Worship: Parish Eucharist
DESCRIPTION:
URL:https://www.allsaintschurchgresford.org.uk/event/sunday-worship-parish-eucharist/2026-06-21/
LOCATION:All Saints’ Church\, Gresford\, The Green\, Gresford\, Wrexham\, Wrexham\, LL12 8RG\, United Kingdom
CATEGORIES:Church Services
END:VEVENT
BEGIN:VEVENT
DTSTART;TZID=Europe/London:20260621T110000
DTEND;TZID=Europe/London:20260621T120000
DTSTAMP:20260424T005117
CREATED:20241210T230612Z
LAST-MODIFIED:20250528T195704Z
UID:10001124-1782039600-1782043200@www.allsaintschurchgresford.org.uk
SUMMARY:Sunday Worship: Parish Eucharist (Family Eucharist 1st Sunday of the month)
DESCRIPTION:
URL:https://www.allsaintschurchgresford.org.uk/event/sunday-worship-parish-eucharist-2/2026-06-21/
LOCATION:All Saints’ Church\, Gresford\, The Green\, Gresford\, Wrexham\, Wrexham\, LL12 8RG\, United Kingdom
CATEGORIES:Church Services
END:VEVENT
BEGIN:VEVENT
DTSTART;TZID=Europe/London:20260624T100000
DTEND;TZID=Europe/London:20260624T110000
DTSTAMP:20260424T005117
CREATED:20250502T105136Z
LAST-MODIFIED:20250502T105300Z
UID:10001630-1782295200-1782298800@www.allsaintschurchgresford.org.uk
SUMMARY:Mid-Week Service: Holy Eucharist
DESCRIPTION:
URL:https://www.allsaintschurchgresford.org.uk/event/mid-week-service-holy-eucharist-2/2026-06-24/
LOCATION:All Saints’ Church\, Gresford\, The Green\, Gresford\, Wrexham\, Wrexham\, LL12 8RG\, United Kingdom
CATEGORIES:Church Services
END:VEVENT
BEGIN:VEVENT
DTSTART;TZID=Europe/London:20260628T080000
DTEND;TZID=Europe/London:20260628T090000
DTSTAMP:20260424T005117
CREATED:20241210T225646Z
LAST-MODIFIED:20241211T154948Z
UID:10000864-1782633600-1782637200@www.allsaintschurchgresford.org.uk
SUMMARY:Sunday Worship: Parish Eucharist
DESCRIPTION:
URL:https://www.allsaintschurchgresford.org.uk/event/sunday-worship-parish-eucharist/2026-06-28/
LOCATION:All Saints’ Church\, Gresford\, The Green\, Gresford\, Wrexham\, Wrexham\, LL12 8RG\, United Kingdom
CATEGORIES:Church Services
END:VEVENT
BEGIN:VEVENT
DTSTART;TZID=Europe/London:20260628T110000
DTEND;TZID=Europe/London:20260628T120000
DTSTAMP:20260424T005117
CREATED:20241210T230612Z
LAST-MODIFIED:20250528T195704Z
UID:10001125-1782644400-1782648000@www.allsaintschurchgresford.org.uk
SUMMARY:Sunday Worship: Parish Eucharist (Family Eucharist 1st Sunday of the month)
DESCRIPTION:
URL:https://www.allsaintschurchgresford.org.uk/event/sunday-worship-parish-eucharist-2/2026-06-28/
LOCATION:All Saints’ Church\, Gresford\, The Green\, Gresford\, Wrexham\, Wrexham\, LL12 8RG\, United Kingdom
CATEGORIES:Church Services
END:VEVENT
BEGIN:VEVENT
DTSTART;TZID=Europe/London:20260701T100000
DTEND;TZID=Europe/London:20260701T110000
DTSTAMP:20260424T005117
CREATED:20250502T105136Z
LAST-MODIFIED:20250502T105300Z
UID:10001631-1782900000-1782903600@www.allsaintschurchgresford.org.uk
SUMMARY:Mid-Week Service: Holy Eucharist
DESCRIPTION:
URL:https://www.allsaintschurchgresford.org.uk/event/mid-week-service-holy-eucharist-2/2026-07-01/
LOCATION:All Saints’ Church\, Gresford\, The Green\, Gresford\, Wrexham\, Wrexham\, LL12 8RG\, United Kingdom
CATEGORIES:Church Services
END:VEVENT
END:VCALENDAR