BEGIN:VCALENDAR
VERSION:2.0
PRODID:-//All Saints&#039; Church, Gresford - ECPv6.9.0//NONSGML v1.0//EN
CALSCALE:GREGORIAN
METHOD:PUBLISH
X-ORIGINAL-URL:https://www.allsaintschurchgresford.org.uk
X-WR-CALDESC:Events for All Saints&#039; Church, Gresford
REFRESH-INTERVAL;VALUE=DURATION:PT1H
X-Robots-Tag:noindex
X-PUBLISHED-TTL:PT1H
BEGIN:VTIMEZONE
TZID:Europe/London
BEGIN:DAYLIGHT
TZOFFSETFROM:+0000
TZOFFSETTO:+0100
TZNAME:BST
DTSTART:20260329T010000
END:DAYLIGHT
BEGIN:STANDARD
TZOFFSETFROM:+0100
TZOFFSETTO:+0000
TZNAME:GMT
DTSTART:20261025T010000
END:STANDARD
END:VTIMEZONE
BEGIN:VEVENT
DTSTART;TZID=Europe/London:20260308T080000
DTEND;TZID=Europe/London:20260308T090000
DTSTAMP:20260425T044140
CREATED:20241210T225646Z
LAST-MODIFIED:20241211T154948Z
UID:10000848-1772956800-1772960400@www.allsaintschurchgresford.org.uk
SUMMARY:Sunday Worship: Parish Eucharist
DESCRIPTION:
URL:https://www.allsaintschurchgresford.org.uk/event/sunday-worship-parish-eucharist/2026-03-08/
LOCATION:All Saints’ Church\, Gresford\, The Green\, Gresford\, Wrexham\, Wrexham\, LL12 8RG\, United Kingdom
CATEGORIES:Church Services
END:VEVENT
BEGIN:VEVENT
DTSTART;TZID=Europe/London:20260308T110000
DTEND;TZID=Europe/London:20260308T120000
DTSTAMP:20260425T044140
CREATED:20241210T230612Z
LAST-MODIFIED:20250528T195704Z
UID:10001109-1772967600-1772971200@www.allsaintschurchgresford.org.uk
SUMMARY:Sunday Worship: Parish Eucharist (Family Eucharist 1st Sunday of the month)
DESCRIPTION:
URL:https://www.allsaintschurchgresford.org.uk/event/sunday-worship-parish-eucharist-2/2026-03-08/
LOCATION:All Saints’ Church\, Gresford\, The Green\, Gresford\, Wrexham\, Wrexham\, LL12 8RG\, United Kingdom
CATEGORIES:Church Services
END:VEVENT
BEGIN:VEVENT
DTSTART;TZID=Europe/London:20260311T100000
DTEND;TZID=Europe/London:20260311T110000
DTSTAMP:20260425T044140
CREATED:20250502T105136Z
LAST-MODIFIED:20250502T105300Z
UID:10001615-1773223200-1773226800@www.allsaintschurchgresford.org.uk
SUMMARY:Mid-Week Service: Holy Eucharist
DESCRIPTION:
URL:https://www.allsaintschurchgresford.org.uk/event/mid-week-service-holy-eucharist-2/2026-03-11/
LOCATION:All Saints’ Church\, Gresford\, The Green\, Gresford\, Wrexham\, Wrexham\, LL12 8RG\, United Kingdom
CATEGORIES:Church Services
END:VEVENT
BEGIN:VEVENT
DTSTART;TZID=Europe/London:20260315T080000
DTEND;TZID=Europe/London:20260315T090000
DTSTAMP:20260425T044140
CREATED:20241210T225646Z
LAST-MODIFIED:20241211T154948Z
UID:10000849-1773561600-1773565200@www.allsaintschurchgresford.org.uk
SUMMARY:Sunday Worship: Parish Eucharist
DESCRIPTION:
URL:https://www.allsaintschurchgresford.org.uk/event/sunday-worship-parish-eucharist/2026-03-15/
LOCATION:All Saints’ Church\, Gresford\, The Green\, Gresford\, Wrexham\, Wrexham\, LL12 8RG\, United Kingdom
CATEGORIES:Church Services
END:VEVENT
BEGIN:VEVENT
DTSTART;TZID=Europe/London:20260315T110000
DTEND;TZID=Europe/London:20260315T120000
DTSTAMP:20260425T044140
CREATED:20241210T230612Z
LAST-MODIFIED:20250528T195704Z
UID:10001110-1773572400-1773576000@www.allsaintschurchgresford.org.uk
SUMMARY:Sunday Worship: Parish Eucharist (Family Eucharist 1st Sunday of the month)
DESCRIPTION:
URL:https://www.allsaintschurchgresford.org.uk/event/sunday-worship-parish-eucharist-2/2026-03-15/
LOCATION:All Saints’ Church\, Gresford\, The Green\, Gresford\, Wrexham\, Wrexham\, LL12 8RG\, United Kingdom
CATEGORIES:Church Services
END:VEVENT
BEGIN:VEVENT
DTSTART;TZID=Europe/London:20260318T100000
DTEND;TZID=Europe/London:20260318T110000
DTSTAMP:20260425T044140
CREATED:20250502T105136Z
LAST-MODIFIED:20250502T105300Z
UID:10001616-1773828000-1773831600@www.allsaintschurchgresford.org.uk
SUMMARY:Mid-Week Service: Holy Eucharist
DESCRIPTION:
URL:https://www.allsaintschurchgresford.org.uk/event/mid-week-service-holy-eucharist-2/2026-03-18/
LOCATION:All Saints’ Church\, Gresford\, The Green\, Gresford\, Wrexham\, Wrexham\, LL12 8RG\, United Kingdom
CATEGORIES:Church Services
END:VEVENT
BEGIN:VEVENT
DTSTART;TZID=Europe/London:20260322T080000
DTEND;TZID=Europe/London:20260322T090000
DTSTAMP:20260425T044140
CREATED:20241210T225646Z
LAST-MODIFIED:20241211T154948Z
UID:10000850-1774166400-1774170000@www.allsaintschurchgresford.org.uk
SUMMARY:Sunday Worship: Parish Eucharist
DESCRIPTION:
URL:https://www.allsaintschurchgresford.org.uk/event/sunday-worship-parish-eucharist/2026-03-22/
LOCATION:All Saints’ Church\, Gresford\, The Green\, Gresford\, Wrexham\, Wrexham\, LL12 8RG\, United Kingdom
CATEGORIES:Church Services
END:VEVENT
BEGIN:VEVENT
DTSTART;TZID=Europe/London:20260322T110000
DTEND;TZID=Europe/London:20260322T120000
DTSTAMP:20260425T044140
CREATED:20241210T230612Z
LAST-MODIFIED:20250528T195704Z
UID:10001111-1774177200-1774180800@www.allsaintschurchgresford.org.uk
SUMMARY:Sunday Worship: Parish Eucharist (Family Eucharist 1st Sunday of the month)
DESCRIPTION:
URL:https://www.allsaintschurchgresford.org.uk/event/sunday-worship-parish-eucharist-2/2026-03-22/
LOCATION:All Saints’ Church\, Gresford\, The Green\, Gresford\, Wrexham\, Wrexham\, LL12 8RG\, United Kingdom
CATEGORIES:Church Services
END:VEVENT
BEGIN:VEVENT
DTSTART;TZID=Europe/London:20260325T100000
DTEND;TZID=Europe/London:20260325T110000
DTSTAMP:20260425T044140
CREATED:20250502T105136Z
LAST-MODIFIED:20250502T105300Z
UID:10001617-1774432800-1774436400@www.allsaintschurchgresford.org.uk
SUMMARY:Mid-Week Service: Holy Eucharist
DESCRIPTION:
URL:https://www.allsaintschurchgresford.org.uk/event/mid-week-service-holy-eucharist-2/2026-03-25/
LOCATION:All Saints’ Church\, Gresford\, The Green\, Gresford\, Wrexham\, Wrexham\, LL12 8RG\, United Kingdom
CATEGORIES:Church Services
END:VEVENT
BEGIN:VEVENT
DTSTART;TZID=Europe/London:20260329T080000
DTEND;TZID=Europe/London:20260329T090000
DTSTAMP:20260425T044140
CREATED:20241210T225646Z
LAST-MODIFIED:20241211T154948Z
UID:10000851-1774771200-1774774800@www.allsaintschurchgresford.org.uk
SUMMARY:Sunday Worship: Parish Eucharist
DESCRIPTION:
URL:https://www.allsaintschurchgresford.org.uk/event/sunday-worship-parish-eucharist/2026-03-29/
LOCATION:All Saints’ Church\, Gresford\, The Green\, Gresford\, Wrexham\, Wrexham\, LL12 8RG\, United Kingdom
CATEGORIES:Church Services
END:VEVENT
BEGIN:VEVENT
DTSTART;TZID=Europe/London:20260329T110000
DTEND;TZID=Europe/London:20260329T120000
DTSTAMP:20260425T044140
CREATED:20241210T230612Z
LAST-MODIFIED:20250528T195704Z
UID:10001112-1774782000-1774785600@www.allsaintschurchgresford.org.uk
SUMMARY:Sunday Worship: Parish Eucharist (Family Eucharist 1st Sunday of the month)
DESCRIPTION:
URL:https://www.allsaintschurchgresford.org.uk/event/sunday-worship-parish-eucharist-2/2026-03-29/
LOCATION:All Saints’ Church\, Gresford\, The Green\, Gresford\, Wrexham\, Wrexham\, LL12 8RG\, United Kingdom
CATEGORIES:Church Services
END:VEVENT
BEGIN:VEVENT
DTSTART;TZID=Europe/London:20260401T100000
DTEND;TZID=Europe/London:20260401T110000
DTSTAMP:20260425T044140
CREATED:20250502T105136Z
LAST-MODIFIED:20250502T105300Z
UID:10001618-1775037600-1775041200@www.allsaintschurchgresford.org.uk
SUMMARY:Mid-Week Service: Holy Eucharist
DESCRIPTION:
URL:https://www.allsaintschurchgresford.org.uk/event/mid-week-service-holy-eucharist-2/2026-04-01/
LOCATION:All Saints’ Church\, Gresford\, The Green\, Gresford\, Wrexham\, Wrexham\, LL12 8RG\, United Kingdom
CATEGORIES:Church Services
END:VEVENT
BEGIN:VEVENT
DTSTART;TZID=Europe/London:20260405T080000
DTEND;TZID=Europe/London:20260405T090000
DTSTAMP:20260425T044140
CREATED:20241210T225646Z
LAST-MODIFIED:20241211T154948Z
UID:10000852-1775376000-1775379600@www.allsaintschurchgresford.org.uk
SUMMARY:Sunday Worship: Parish Eucharist
DESCRIPTION:
URL:https://www.allsaintschurchgresford.org.uk/event/sunday-worship-parish-eucharist/2026-04-05/
LOCATION:All Saints’ Church\, Gresford\, The Green\, Gresford\, Wrexham\, Wrexham\, LL12 8RG\, United Kingdom
CATEGORIES:Church Services
END:VEVENT
BEGIN:VEVENT
DTSTART;TZID=Europe/London:20260405T110000
DTEND;TZID=Europe/London:20260405T120000
DTSTAMP:20260425T044140
CREATED:20241210T230612Z
LAST-MODIFIED:20250528T195704Z
UID:10001113-1775386800-1775390400@www.allsaintschurchgresford.org.uk
SUMMARY:Sunday Worship: Parish Eucharist (Family Eucharist 1st Sunday of the month)
DESCRIPTION:
URL:https://www.allsaintschurchgresford.org.uk/event/sunday-worship-parish-eucharist-2/2026-04-05/
LOCATION:All Saints’ Church\, Gresford\, The Green\, Gresford\, Wrexham\, Wrexham\, LL12 8RG\, United Kingdom
CATEGORIES:Church Services
END:VEVENT
BEGIN:VEVENT
DTSTART;TZID=Europe/London:20260408T100000
DTEND;TZID=Europe/London:20260408T110000
DTSTAMP:20260425T044140
CREATED:20250502T105136Z
LAST-MODIFIED:20250502T105300Z
UID:10001619-1775642400-1775646000@www.allsaintschurchgresford.org.uk
SUMMARY:Mid-Week Service: Holy Eucharist
DESCRIPTION:
URL:https://www.allsaintschurchgresford.org.uk/event/mid-week-service-holy-eucharist-2/2026-04-08/
LOCATION:All Saints’ Church\, Gresford\, The Green\, Gresford\, Wrexham\, Wrexham\, LL12 8RG\, United Kingdom
CATEGORIES:Church Services
END:VEVENT
BEGIN:VEVENT
DTSTART;TZID=Europe/London:20260412T080000
DTEND;TZID=Europe/London:20260412T090000
DTSTAMP:20260425T044140
CREATED:20241210T225646Z
LAST-MODIFIED:20241211T154948Z
UID:10000853-1775980800-1775984400@www.allsaintschurchgresford.org.uk
SUMMARY:Sunday Worship: Parish Eucharist
DESCRIPTION:
URL:https://www.allsaintschurchgresford.org.uk/event/sunday-worship-parish-eucharist/2026-04-12/
LOCATION:All Saints’ Church\, Gresford\, The Green\, Gresford\, Wrexham\, Wrexham\, LL12 8RG\, United Kingdom
CATEGORIES:Church Services
END:VEVENT
BEGIN:VEVENT
DTSTART;TZID=Europe/London:20260412T110000
DTEND;TZID=Europe/London:20260412T120000
DTSTAMP:20260425T044140
CREATED:20241210T230612Z
LAST-MODIFIED:20250528T195704Z
UID:10001114-1775991600-1775995200@www.allsaintschurchgresford.org.uk
SUMMARY:Sunday Worship: Parish Eucharist (Family Eucharist 1st Sunday of the month)
DESCRIPTION:
URL:https://www.allsaintschurchgresford.org.uk/event/sunday-worship-parish-eucharist-2/2026-04-12/
LOCATION:All Saints’ Church\, Gresford\, The Green\, Gresford\, Wrexham\, Wrexham\, LL12 8RG\, United Kingdom
CATEGORIES:Church Services
END:VEVENT
BEGIN:VEVENT
DTSTART;TZID=Europe/London:20260415T100000
DTEND;TZID=Europe/London:20260415T110000
DTSTAMP:20260425T044140
CREATED:20250502T105136Z
LAST-MODIFIED:20250502T105300Z
UID:10001620-1776247200-1776250800@www.allsaintschurchgresford.org.uk
SUMMARY:Mid-Week Service: Holy Eucharist
DESCRIPTION:
URL:https://www.allsaintschurchgresford.org.uk/event/mid-week-service-holy-eucharist-2/2026-04-15/
LOCATION:All Saints’ Church\, Gresford\, The Green\, Gresford\, Wrexham\, Wrexham\, LL12 8RG\, United Kingdom
CATEGORIES:Church Services
END:VEVENT
BEGIN:VEVENT
DTSTART;TZID=Europe/London:20260419T080000
DTEND;TZID=Europe/London:20260419T090000
DTSTAMP:20260425T044140
CREATED:20241210T225646Z
LAST-MODIFIED:20241211T154948Z
UID:10000854-1776585600-1776589200@www.allsaintschurchgresford.org.uk
SUMMARY:Sunday Worship: Parish Eucharist
DESCRIPTION:
URL:https://www.allsaintschurchgresford.org.uk/event/sunday-worship-parish-eucharist/2026-04-19/
LOCATION:All Saints’ Church\, Gresford\, The Green\, Gresford\, Wrexham\, Wrexham\, LL12 8RG\, United Kingdom
CATEGORIES:Church Services
END:VEVENT
BEGIN:VEVENT
DTSTART;TZID=Europe/London:20260419T110000
DTEND;TZID=Europe/London:20260419T120000
DTSTAMP:20260425T044140
CREATED:20241210T230612Z
LAST-MODIFIED:20250528T195704Z
UID:10001115-1776596400-1776600000@www.allsaintschurchgresford.org.uk
SUMMARY:Sunday Worship: Parish Eucharist (Family Eucharist 1st Sunday of the month)
DESCRIPTION:
URL:https://www.allsaintschurchgresford.org.uk/event/sunday-worship-parish-eucharist-2/2026-04-19/
LOCATION:All Saints’ Church\, Gresford\, The Green\, Gresford\, Wrexham\, Wrexham\, LL12 8RG\, United Kingdom
CATEGORIES:Church Services
END:VEVENT
BEGIN:VEVENT
DTSTART;TZID=Europe/London:20260422T100000
DTEND;TZID=Europe/London:20260422T110000
DTSTAMP:20260425T044140
CREATED:20250502T105136Z
LAST-MODIFIED:20250502T105300Z
UID:10001621-1776852000-1776855600@www.allsaintschurchgresford.org.uk
SUMMARY:Mid-Week Service: Holy Eucharist
DESCRIPTION:
URL:https://www.allsaintschurchgresford.org.uk/event/mid-week-service-holy-eucharist-2/2026-04-22/
LOCATION:All Saints’ Church\, Gresford\, The Green\, Gresford\, Wrexham\, Wrexham\, LL12 8RG\, United Kingdom
CATEGORIES:Church Services
END:VEVENT
BEGIN:VEVENT
DTSTART;TZID=Europe/London:20260426T080000
DTEND;TZID=Europe/London:20260426T090000
DTSTAMP:20260425T044140
CREATED:20241210T225646Z
LAST-MODIFIED:20241211T154948Z
UID:10000855-1777190400-1777194000@www.allsaintschurchgresford.org.uk
SUMMARY:Sunday Worship: Parish Eucharist
DESCRIPTION:
URL:https://www.allsaintschurchgresford.org.uk/event/sunday-worship-parish-eucharist/2026-04-26/
LOCATION:All Saints’ Church\, Gresford\, The Green\, Gresford\, Wrexham\, Wrexham\, LL12 8RG\, United Kingdom
CATEGORIES:Church Services
END:VEVENT
BEGIN:VEVENT
DTSTART;TZID=Europe/London:20260426T110000
DTEND;TZID=Europe/London:20260426T120000
DTSTAMP:20260425T044140
CREATED:20241210T230612Z
LAST-MODIFIED:20250528T195704Z
UID:10001116-1777201200-1777204800@www.allsaintschurchgresford.org.uk
SUMMARY:Sunday Worship: Parish Eucharist (Family Eucharist 1st Sunday of the month)
DESCRIPTION:
URL:https://www.allsaintschurchgresford.org.uk/event/sunday-worship-parish-eucharist-2/2026-04-26/
LOCATION:All Saints’ Church\, Gresford\, The Green\, Gresford\, Wrexham\, Wrexham\, LL12 8RG\, United Kingdom
CATEGORIES:Church Services
END:VEVENT
BEGIN:VEVENT
DTSTART;TZID=Europe/London:20260429T100000
DTEND;TZID=Europe/London:20260429T110000
DTSTAMP:20260425T044140
CREATED:20250502T105136Z
LAST-MODIFIED:20250502T105300Z
UID:10001622-1777456800-1777460400@www.allsaintschurchgresford.org.uk
SUMMARY:Mid-Week Service: Holy Eucharist
DESCRIPTION:
URL:https://www.allsaintschurchgresford.org.uk/event/mid-week-service-holy-eucharist-2/2026-04-29/
LOCATION:All Saints’ Church\, Gresford\, The Green\, Gresford\, Wrexham\, Wrexham\, LL12 8RG\, United Kingdom
CATEGORIES:Church Services
END:VEVENT
BEGIN:VEVENT
DTSTART;TZID=Europe/London:20260503T080000
DTEND;TZID=Europe/London:20260503T090000
DTSTAMP:20260425T044140
CREATED:20241210T225646Z
LAST-MODIFIED:20241211T154948Z
UID:10000856-1777795200-1777798800@www.allsaintschurchgresford.org.uk
SUMMARY:Sunday Worship: Parish Eucharist
DESCRIPTION:
URL:https://www.allsaintschurchgresford.org.uk/event/sunday-worship-parish-eucharist/2026-05-03/
LOCATION:All Saints’ Church\, Gresford\, The Green\, Gresford\, Wrexham\, Wrexham\, LL12 8RG\, United Kingdom
CATEGORIES:Church Services
END:VEVENT
BEGIN:VEVENT
DTSTART;TZID=Europe/London:20260503T110000
DTEND;TZID=Europe/London:20260503T120000
DTSTAMP:20260425T044140
CREATED:20241210T230612Z
LAST-MODIFIED:20250528T195704Z
UID:10001117-1777806000-1777809600@www.allsaintschurchgresford.org.uk
SUMMARY:Sunday Worship: Parish Eucharist (Family Eucharist 1st Sunday of the month)
DESCRIPTION:
URL:https://www.allsaintschurchgresford.org.uk/event/sunday-worship-parish-eucharist-2/2026-05-03/
LOCATION:All Saints’ Church\, Gresford\, The Green\, Gresford\, Wrexham\, Wrexham\, LL12 8RG\, United Kingdom
CATEGORIES:Church Services
END:VEVENT
BEGIN:VEVENT
DTSTART;TZID=Europe/London:20260506T100000
DTEND;TZID=Europe/London:20260506T110000
DTSTAMP:20260425T044140
CREATED:20250502T105136Z
LAST-MODIFIED:20250502T105300Z
UID:10001623-1778061600-1778065200@www.allsaintschurchgresford.org.uk
SUMMARY:Mid-Week Service: Holy Eucharist
DESCRIPTION:
URL:https://www.allsaintschurchgresford.org.uk/event/mid-week-service-holy-eucharist-2/2026-05-06/
LOCATION:All Saints’ Church\, Gresford\, The Green\, Gresford\, Wrexham\, Wrexham\, LL12 8RG\, United Kingdom
CATEGORIES:Church Services
END:VEVENT
BEGIN:VEVENT
DTSTART;TZID=Europe/London:20260510T080000
DTEND;TZID=Europe/London:20260510T090000
DTSTAMP:20260425T044140
CREATED:20241210T225646Z
LAST-MODIFIED:20241211T154948Z
UID:10000857-1778400000-1778403600@www.allsaintschurchgresford.org.uk
SUMMARY:Sunday Worship: Parish Eucharist
DESCRIPTION:
URL:https://www.allsaintschurchgresford.org.uk/event/sunday-worship-parish-eucharist/2026-05-10/
LOCATION:All Saints’ Church\, Gresford\, The Green\, Gresford\, Wrexham\, Wrexham\, LL12 8RG\, United Kingdom
CATEGORIES:Church Services
END:VEVENT
BEGIN:VEVENT
DTSTART;TZID=Europe/London:20260510T110000
DTEND;TZID=Europe/London:20260510T120000
DTSTAMP:20260425T044140
CREATED:20241210T230612Z
LAST-MODIFIED:20250528T195704Z
UID:10001118-1778410800-1778414400@www.allsaintschurchgresford.org.uk
SUMMARY:Sunday Worship: Parish Eucharist (Family Eucharist 1st Sunday of the month)
DESCRIPTION:
URL:https://www.allsaintschurchgresford.org.uk/event/sunday-worship-parish-eucharist-2/2026-05-10/
LOCATION:All Saints’ Church\, Gresford\, The Green\, Gresford\, Wrexham\, Wrexham\, LL12 8RG\, United Kingdom
CATEGORIES:Church Services
END:VEVENT
BEGIN:VEVENT
DTSTART;TZID=Europe/London:20260513T100000
DTEND;TZID=Europe/London:20260513T110000
DTSTAMP:20260425T044140
CREATED:20250502T105136Z
LAST-MODIFIED:20250502T105300Z
UID:10001624-1778666400-1778670000@www.allsaintschurchgresford.org.uk
SUMMARY:Mid-Week Service: Holy Eucharist
DESCRIPTION:
URL:https://www.allsaintschurchgresford.org.uk/event/mid-week-service-holy-eucharist-2/2026-05-13/
LOCATION:All Saints’ Church\, Gresford\, The Green\, Gresford\, Wrexham\, Wrexham\, LL12 8RG\, United Kingdom
CATEGORIES:Church Services
END:VEVENT
END:VCALENDAR