BEGIN:VCALENDAR
VERSION:2.0
PRODID:-//All Saints&#039; Church, Gresford - ECPv6.9.0//NONSGML v1.0//EN
CALSCALE:GREGORIAN
METHOD:PUBLISH
X-WR-CALNAME:All Saints&#039; Church, Gresford
X-ORIGINAL-URL:https://www.allsaintschurchgresford.org.uk
X-WR-CALDESC:Events for All Saints&#039; Church, Gresford
REFRESH-INTERVAL;VALUE=DURATION:PT1H
X-Robots-Tag:noindex
X-PUBLISHED-TTL:PT1H
BEGIN:VTIMEZONE
TZID:Europe/London
BEGIN:DAYLIGHT
TZOFFSETFROM:+0000
TZOFFSETTO:+0100
TZNAME:BST
DTSTART:20280326T010000
END:DAYLIGHT
BEGIN:STANDARD
TZOFFSETFROM:+0100
TZOFFSETTO:+0000
TZNAME:GMT
DTSTART:20281029T010000
END:STANDARD
END:VTIMEZONE
BEGIN:VEVENT
DTSTART;TZID=Europe/London:20280308T100000
DTEND;TZID=Europe/London:20280308T110000
DTSTAMP:20260425T043835
CREATED:20250502T105136Z
LAST-MODIFIED:20250502T105300Z
UID:10001719-1836122400-1836126000@www.allsaintschurchgresford.org.uk
SUMMARY:Mid-Week Service: Holy Eucharist
DESCRIPTION:
URL:https://www.allsaintschurchgresford.org.uk/event/mid-week-service-holy-eucharist-2/2028-03-08/
LOCATION:All Saints’ Church\, Gresford\, The Green\, Gresford\, Wrexham\, Wrexham\, LL12 8RG\, United Kingdom
CATEGORIES:Church Services
END:VEVENT
BEGIN:VEVENT
DTSTART;TZID=Europe/London:20280312T080000
DTEND;TZID=Europe/London:20280312T090000
DTSTAMP:20260425T043835
CREATED:20241210T225646Z
LAST-MODIFIED:20241211T154948Z
UID:10000953-1836460800-1836464400@www.allsaintschurchgresford.org.uk
SUMMARY:Sunday Worship: Parish Eucharist
DESCRIPTION:
URL:https://www.allsaintschurchgresford.org.uk/event/sunday-worship-parish-eucharist/2028-03-12/
LOCATION:All Saints’ Church\, Gresford\, The Green\, Gresford\, Wrexham\, Wrexham\, LL12 8RG\, United Kingdom
CATEGORIES:Church Services
END:VEVENT
BEGIN:VEVENT
DTSTART;TZID=Europe/London:20280312T110000
DTEND;TZID=Europe/London:20280312T120000
DTSTAMP:20260425T043835
CREATED:20241210T230612Z
LAST-MODIFIED:20250528T195704Z
UID:10001214-1836471600-1836475200@www.allsaintschurchgresford.org.uk
SUMMARY:Sunday Worship: Parish Eucharist (Family Eucharist 1st Sunday of the month)
DESCRIPTION:
URL:https://www.allsaintschurchgresford.org.uk/event/sunday-worship-parish-eucharist-2/2028-03-12/
LOCATION:All Saints’ Church\, Gresford\, The Green\, Gresford\, Wrexham\, Wrexham\, LL12 8RG\, United Kingdom
CATEGORIES:Church Services
END:VEVENT
BEGIN:VEVENT
DTSTART;TZID=Europe/London:20280315T100000
DTEND;TZID=Europe/London:20280315T110000
DTSTAMP:20260425T043835
CREATED:20250502T105136Z
LAST-MODIFIED:20250502T105300Z
UID:10001720-1836727200-1836730800@www.allsaintschurchgresford.org.uk
SUMMARY:Mid-Week Service: Holy Eucharist
DESCRIPTION:
URL:https://www.allsaintschurchgresford.org.uk/event/mid-week-service-holy-eucharist-2/2028-03-15/
LOCATION:All Saints’ Church\, Gresford\, The Green\, Gresford\, Wrexham\, Wrexham\, LL12 8RG\, United Kingdom
CATEGORIES:Church Services
END:VEVENT
BEGIN:VEVENT
DTSTART;TZID=Europe/London:20280319T080000
DTEND;TZID=Europe/London:20280319T090000
DTSTAMP:20260425T043835
CREATED:20241210T225646Z
LAST-MODIFIED:20241211T154948Z
UID:10000954-1837065600-1837069200@www.allsaintschurchgresford.org.uk
SUMMARY:Sunday Worship: Parish Eucharist
DESCRIPTION:
URL:https://www.allsaintschurchgresford.org.uk/event/sunday-worship-parish-eucharist/2028-03-19/
LOCATION:All Saints’ Church\, Gresford\, The Green\, Gresford\, Wrexham\, Wrexham\, LL12 8RG\, United Kingdom
CATEGORIES:Church Services
END:VEVENT
BEGIN:VEVENT
DTSTART;TZID=Europe/London:20280319T110000
DTEND;TZID=Europe/London:20280319T120000
DTSTAMP:20260425T043835
CREATED:20241210T230612Z
LAST-MODIFIED:20250528T195704Z
UID:10001215-1837076400-1837080000@www.allsaintschurchgresford.org.uk
SUMMARY:Sunday Worship: Parish Eucharist (Family Eucharist 1st Sunday of the month)
DESCRIPTION:
URL:https://www.allsaintschurchgresford.org.uk/event/sunday-worship-parish-eucharist-2/2028-03-19/
LOCATION:All Saints’ Church\, Gresford\, The Green\, Gresford\, Wrexham\, Wrexham\, LL12 8RG\, United Kingdom
CATEGORIES:Church Services
END:VEVENT
BEGIN:VEVENT
DTSTART;TZID=Europe/London:20280322T100000
DTEND;TZID=Europe/London:20280322T110000
DTSTAMP:20260425T043835
CREATED:20250502T105136Z
LAST-MODIFIED:20250502T105300Z
UID:10001721-1837332000-1837335600@www.allsaintschurchgresford.org.uk
SUMMARY:Mid-Week Service: Holy Eucharist
DESCRIPTION:
URL:https://www.allsaintschurchgresford.org.uk/event/mid-week-service-holy-eucharist-2/2028-03-22/
LOCATION:All Saints’ Church\, Gresford\, The Green\, Gresford\, Wrexham\, Wrexham\, LL12 8RG\, United Kingdom
CATEGORIES:Church Services
END:VEVENT
BEGIN:VEVENT
DTSTART;TZID=Europe/London:20280326T080000
DTEND;TZID=Europe/London:20280326T090000
DTSTAMP:20260425T043835
CREATED:20241210T225646Z
LAST-MODIFIED:20241211T154948Z
UID:10000955-1837670400-1837674000@www.allsaintschurchgresford.org.uk
SUMMARY:Sunday Worship: Parish Eucharist
DESCRIPTION:
URL:https://www.allsaintschurchgresford.org.uk/event/sunday-worship-parish-eucharist/2028-03-26/
LOCATION:All Saints’ Church\, Gresford\, The Green\, Gresford\, Wrexham\, Wrexham\, LL12 8RG\, United Kingdom
CATEGORIES:Church Services
END:VEVENT
BEGIN:VEVENT
DTSTART;TZID=Europe/London:20280326T110000
DTEND;TZID=Europe/London:20280326T120000
DTSTAMP:20260425T043835
CREATED:20241210T230612Z
LAST-MODIFIED:20250528T195704Z
UID:10001216-1837681200-1837684800@www.allsaintschurchgresford.org.uk
SUMMARY:Sunday Worship: Parish Eucharist (Family Eucharist 1st Sunday of the month)
DESCRIPTION:
URL:https://www.allsaintschurchgresford.org.uk/event/sunday-worship-parish-eucharist-2/2028-03-26/
LOCATION:All Saints’ Church\, Gresford\, The Green\, Gresford\, Wrexham\, Wrexham\, LL12 8RG\, United Kingdom
CATEGORIES:Church Services
END:VEVENT
BEGIN:VEVENT
DTSTART;TZID=Europe/London:20280329T100000
DTEND;TZID=Europe/London:20280329T110000
DTSTAMP:20260425T043835
CREATED:20250502T105136Z
LAST-MODIFIED:20250502T105300Z
UID:10001722-1837936800-1837940400@www.allsaintschurchgresford.org.uk
SUMMARY:Mid-Week Service: Holy Eucharist
DESCRIPTION:
URL:https://www.allsaintschurchgresford.org.uk/event/mid-week-service-holy-eucharist-2/2028-03-29/
LOCATION:All Saints’ Church\, Gresford\, The Green\, Gresford\, Wrexham\, Wrexham\, LL12 8RG\, United Kingdom
CATEGORIES:Church Services
END:VEVENT
BEGIN:VEVENT
DTSTART;TZID=Europe/London:20280402T080000
DTEND;TZID=Europe/London:20280402T090000
DTSTAMP:20260425T043835
CREATED:20241210T225646Z
LAST-MODIFIED:20241211T154948Z
UID:10000956-1838275200-1838278800@www.allsaintschurchgresford.org.uk
SUMMARY:Sunday Worship: Parish Eucharist
DESCRIPTION:
URL:https://www.allsaintschurchgresford.org.uk/event/sunday-worship-parish-eucharist/2028-04-02/
LOCATION:All Saints’ Church\, Gresford\, The Green\, Gresford\, Wrexham\, Wrexham\, LL12 8RG\, United Kingdom
CATEGORIES:Church Services
END:VEVENT
BEGIN:VEVENT
DTSTART;TZID=Europe/London:20280402T110000
DTEND;TZID=Europe/London:20280402T120000
DTSTAMP:20260425T043835
CREATED:20241210T230612Z
LAST-MODIFIED:20250528T195704Z
UID:10001217-1838286000-1838289600@www.allsaintschurchgresford.org.uk
SUMMARY:Sunday Worship: Parish Eucharist (Family Eucharist 1st Sunday of the month)
DESCRIPTION:
URL:https://www.allsaintschurchgresford.org.uk/event/sunday-worship-parish-eucharist-2/2028-04-02/
LOCATION:All Saints’ Church\, Gresford\, The Green\, Gresford\, Wrexham\, Wrexham\, LL12 8RG\, United Kingdom
CATEGORIES:Church Services
END:VEVENT
BEGIN:VEVENT
DTSTART;TZID=Europe/London:20280405T100000
DTEND;TZID=Europe/London:20280405T110000
DTSTAMP:20260425T043835
CREATED:20250502T105136Z
LAST-MODIFIED:20250502T105300Z
UID:10001723-1838541600-1838545200@www.allsaintschurchgresford.org.uk
SUMMARY:Mid-Week Service: Holy Eucharist
DESCRIPTION:
URL:https://www.allsaintschurchgresford.org.uk/event/mid-week-service-holy-eucharist-2/2028-04-05/
LOCATION:All Saints’ Church\, Gresford\, The Green\, Gresford\, Wrexham\, Wrexham\, LL12 8RG\, United Kingdom
CATEGORIES:Church Services
END:VEVENT
BEGIN:VEVENT
DTSTART;TZID=Europe/London:20280409T080000
DTEND;TZID=Europe/London:20280409T090000
DTSTAMP:20260425T043835
CREATED:20241210T225646Z
LAST-MODIFIED:20241211T154948Z
UID:10000957-1838880000-1838883600@www.allsaintschurchgresford.org.uk
SUMMARY:Sunday Worship: Parish Eucharist
DESCRIPTION:
URL:https://www.allsaintschurchgresford.org.uk/event/sunday-worship-parish-eucharist/2028-04-09/
LOCATION:All Saints’ Church\, Gresford\, The Green\, Gresford\, Wrexham\, Wrexham\, LL12 8RG\, United Kingdom
CATEGORIES:Church Services
END:VEVENT
BEGIN:VEVENT
DTSTART;TZID=Europe/London:20280409T110000
DTEND;TZID=Europe/London:20280409T120000
DTSTAMP:20260425T043835
CREATED:20241210T230612Z
LAST-MODIFIED:20250528T195704Z
UID:10001218-1838890800-1838894400@www.allsaintschurchgresford.org.uk
SUMMARY:Sunday Worship: Parish Eucharist (Family Eucharist 1st Sunday of the month)
DESCRIPTION:
URL:https://www.allsaintschurchgresford.org.uk/event/sunday-worship-parish-eucharist-2/2028-04-09/
LOCATION:All Saints’ Church\, Gresford\, The Green\, Gresford\, Wrexham\, Wrexham\, LL12 8RG\, United Kingdom
CATEGORIES:Church Services
END:VEVENT
BEGIN:VEVENT
DTSTART;TZID=Europe/London:20280412T100000
DTEND;TZID=Europe/London:20280412T110000
DTSTAMP:20260425T043835
CREATED:20250502T105136Z
LAST-MODIFIED:20250502T105300Z
UID:10001724-1839146400-1839150000@www.allsaintschurchgresford.org.uk
SUMMARY:Mid-Week Service: Holy Eucharist
DESCRIPTION:
URL:https://www.allsaintschurchgresford.org.uk/event/mid-week-service-holy-eucharist-2/2028-04-12/
LOCATION:All Saints’ Church\, Gresford\, The Green\, Gresford\, Wrexham\, Wrexham\, LL12 8RG\, United Kingdom
CATEGORIES:Church Services
END:VEVENT
BEGIN:VEVENT
DTSTART;TZID=Europe/London:20280416T080000
DTEND;TZID=Europe/London:20280416T090000
DTSTAMP:20260425T043835
CREATED:20241210T225646Z
LAST-MODIFIED:20241211T154948Z
UID:10000958-1839484800-1839488400@www.allsaintschurchgresford.org.uk
SUMMARY:Sunday Worship: Parish Eucharist
DESCRIPTION:
URL:https://www.allsaintschurchgresford.org.uk/event/sunday-worship-parish-eucharist/2028-04-16/
LOCATION:All Saints’ Church\, Gresford\, The Green\, Gresford\, Wrexham\, Wrexham\, LL12 8RG\, United Kingdom
CATEGORIES:Church Services
END:VEVENT
BEGIN:VEVENT
DTSTART;TZID=Europe/London:20280416T110000
DTEND;TZID=Europe/London:20280416T120000
DTSTAMP:20260425T043835
CREATED:20241210T230612Z
LAST-MODIFIED:20250528T195704Z
UID:10001219-1839495600-1839499200@www.allsaintschurchgresford.org.uk
SUMMARY:Sunday Worship: Parish Eucharist (Family Eucharist 1st Sunday of the month)
DESCRIPTION:
URL:https://www.allsaintschurchgresford.org.uk/event/sunday-worship-parish-eucharist-2/2028-04-16/
LOCATION:All Saints’ Church\, Gresford\, The Green\, Gresford\, Wrexham\, Wrexham\, LL12 8RG\, United Kingdom
CATEGORIES:Church Services
END:VEVENT
BEGIN:VEVENT
DTSTART;TZID=Europe/London:20280419T100000
DTEND;TZID=Europe/London:20280419T110000
DTSTAMP:20260425T043835
CREATED:20250502T105136Z
LAST-MODIFIED:20250502T105300Z
UID:10001725-1839751200-1839754800@www.allsaintschurchgresford.org.uk
SUMMARY:Mid-Week Service: Holy Eucharist
DESCRIPTION:
URL:https://www.allsaintschurchgresford.org.uk/event/mid-week-service-holy-eucharist-2/2028-04-19/
LOCATION:All Saints’ Church\, Gresford\, The Green\, Gresford\, Wrexham\, Wrexham\, LL12 8RG\, United Kingdom
CATEGORIES:Church Services
END:VEVENT
BEGIN:VEVENT
DTSTART;TZID=Europe/London:20280423T080000
DTEND;TZID=Europe/London:20280423T090000
DTSTAMP:20260425T043835
CREATED:20241210T225646Z
LAST-MODIFIED:20241211T154948Z
UID:10000959-1840089600-1840093200@www.allsaintschurchgresford.org.uk
SUMMARY:Sunday Worship: Parish Eucharist
DESCRIPTION:
URL:https://www.allsaintschurchgresford.org.uk/event/sunday-worship-parish-eucharist/2028-04-23/
LOCATION:All Saints’ Church\, Gresford\, The Green\, Gresford\, Wrexham\, Wrexham\, LL12 8RG\, United Kingdom
CATEGORIES:Church Services
END:VEVENT
BEGIN:VEVENT
DTSTART;TZID=Europe/London:20280423T110000
DTEND;TZID=Europe/London:20280423T120000
DTSTAMP:20260425T043835
CREATED:20241210T230612Z
LAST-MODIFIED:20250528T195704Z
UID:10001220-1840100400-1840104000@www.allsaintschurchgresford.org.uk
SUMMARY:Sunday Worship: Parish Eucharist (Family Eucharist 1st Sunday of the month)
DESCRIPTION:
URL:https://www.allsaintschurchgresford.org.uk/event/sunday-worship-parish-eucharist-2/2028-04-23/
LOCATION:All Saints’ Church\, Gresford\, The Green\, Gresford\, Wrexham\, Wrexham\, LL12 8RG\, United Kingdom
CATEGORIES:Church Services
END:VEVENT
BEGIN:VEVENT
DTSTART;TZID=Europe/London:20280426T100000
DTEND;TZID=Europe/London:20280426T110000
DTSTAMP:20260425T043835
CREATED:20250502T105136Z
LAST-MODIFIED:20250502T105300Z
UID:10001726-1840356000-1840359600@www.allsaintschurchgresford.org.uk
SUMMARY:Mid-Week Service: Holy Eucharist
DESCRIPTION:
URL:https://www.allsaintschurchgresford.org.uk/event/mid-week-service-holy-eucharist-2/2028-04-26/
LOCATION:All Saints’ Church\, Gresford\, The Green\, Gresford\, Wrexham\, Wrexham\, LL12 8RG\, United Kingdom
CATEGORIES:Church Services
END:VEVENT
BEGIN:VEVENT
DTSTART;TZID=Europe/London:20280430T080000
DTEND;TZID=Europe/London:20280430T090000
DTSTAMP:20260425T043835
CREATED:20241210T225646Z
LAST-MODIFIED:20241211T154948Z
UID:10000960-1840694400-1840698000@www.allsaintschurchgresford.org.uk
SUMMARY:Sunday Worship: Parish Eucharist
DESCRIPTION:
URL:https://www.allsaintschurchgresford.org.uk/event/sunday-worship-parish-eucharist/2028-04-30/
LOCATION:All Saints’ Church\, Gresford\, The Green\, Gresford\, Wrexham\, Wrexham\, LL12 8RG\, United Kingdom
CATEGORIES:Church Services
END:VEVENT
BEGIN:VEVENT
DTSTART;TZID=Europe/London:20280430T110000
DTEND;TZID=Europe/London:20280430T120000
DTSTAMP:20260425T043835
CREATED:20241210T230612Z
LAST-MODIFIED:20250528T195704Z
UID:10001221-1840705200-1840708800@www.allsaintschurchgresford.org.uk
SUMMARY:Sunday Worship: Parish Eucharist (Family Eucharist 1st Sunday of the month)
DESCRIPTION:
URL:https://www.allsaintschurchgresford.org.uk/event/sunday-worship-parish-eucharist-2/2028-04-30/
LOCATION:All Saints’ Church\, Gresford\, The Green\, Gresford\, Wrexham\, Wrexham\, LL12 8RG\, United Kingdom
CATEGORIES:Church Services
END:VEVENT
BEGIN:VEVENT
DTSTART;TZID=Europe/London:20280503T100000
DTEND;TZID=Europe/London:20280503T110000
DTSTAMP:20260425T043835
CREATED:20250502T105136Z
LAST-MODIFIED:20250502T105300Z
UID:10001727-1840960800-1840964400@www.allsaintschurchgresford.org.uk
SUMMARY:Mid-Week Service: Holy Eucharist
DESCRIPTION:
URL:https://www.allsaintschurchgresford.org.uk/event/mid-week-service-holy-eucharist-2/2028-05-03/
LOCATION:All Saints’ Church\, Gresford\, The Green\, Gresford\, Wrexham\, Wrexham\, LL12 8RG\, United Kingdom
CATEGORIES:Church Services
END:VEVENT
BEGIN:VEVENT
DTSTART;TZID=Europe/London:20280507T080000
DTEND;TZID=Europe/London:20280507T090000
DTSTAMP:20260425T043835
CREATED:20241210T225646Z
LAST-MODIFIED:20241211T154948Z
UID:10000961-1841299200-1841302800@www.allsaintschurchgresford.org.uk
SUMMARY:Sunday Worship: Parish Eucharist
DESCRIPTION:
URL:https://www.allsaintschurchgresford.org.uk/event/sunday-worship-parish-eucharist/2028-05-07/
LOCATION:All Saints’ Church\, Gresford\, The Green\, Gresford\, Wrexham\, Wrexham\, LL12 8RG\, United Kingdom
CATEGORIES:Church Services
END:VEVENT
BEGIN:VEVENT
DTSTART;TZID=Europe/London:20280507T110000
DTEND;TZID=Europe/London:20280507T120000
DTSTAMP:20260425T043835
CREATED:20241210T230612Z
LAST-MODIFIED:20250528T195704Z
UID:10001222-1841310000-1841313600@www.allsaintschurchgresford.org.uk
SUMMARY:Sunday Worship: Parish Eucharist (Family Eucharist 1st Sunday of the month)
DESCRIPTION:
URL:https://www.allsaintschurchgresford.org.uk/event/sunday-worship-parish-eucharist-2/2028-05-07/
LOCATION:All Saints’ Church\, Gresford\, The Green\, Gresford\, Wrexham\, Wrexham\, LL12 8RG\, United Kingdom
CATEGORIES:Church Services
END:VEVENT
BEGIN:VEVENT
DTSTART;TZID=Europe/London:20280510T100000
DTEND;TZID=Europe/London:20280510T110000
DTSTAMP:20260425T043835
CREATED:20250502T105136Z
LAST-MODIFIED:20250502T105300Z
UID:10001728-1841565600-1841569200@www.allsaintschurchgresford.org.uk
SUMMARY:Mid-Week Service: Holy Eucharist
DESCRIPTION:
URL:https://www.allsaintschurchgresford.org.uk/event/mid-week-service-holy-eucharist-2/2028-05-10/
LOCATION:All Saints’ Church\, Gresford\, The Green\, Gresford\, Wrexham\, Wrexham\, LL12 8RG\, United Kingdom
CATEGORIES:Church Services
END:VEVENT
BEGIN:VEVENT
DTSTART;TZID=Europe/London:20280514T080000
DTEND;TZID=Europe/London:20280514T090000
DTSTAMP:20260425T043835
CREATED:20241210T225646Z
LAST-MODIFIED:20241211T154948Z
UID:10000962-1841904000-1841907600@www.allsaintschurchgresford.org.uk
SUMMARY:Sunday Worship: Parish Eucharist
DESCRIPTION:
URL:https://www.allsaintschurchgresford.org.uk/event/sunday-worship-parish-eucharist/2028-05-14/
LOCATION:All Saints’ Church\, Gresford\, The Green\, Gresford\, Wrexham\, Wrexham\, LL12 8RG\, United Kingdom
CATEGORIES:Church Services
END:VEVENT
BEGIN:VEVENT
DTSTART;TZID=Europe/London:20280514T110000
DTEND;TZID=Europe/London:20280514T120000
DTSTAMP:20260425T043835
CREATED:20241210T230612Z
LAST-MODIFIED:20250528T195704Z
UID:10001223-1841914800-1841918400@www.allsaintschurchgresford.org.uk
SUMMARY:Sunday Worship: Parish Eucharist (Family Eucharist 1st Sunday of the month)
DESCRIPTION:
URL:https://www.allsaintschurchgresford.org.uk/event/sunday-worship-parish-eucharist-2/2028-05-14/
LOCATION:All Saints’ Church\, Gresford\, The Green\, Gresford\, Wrexham\, Wrexham\, LL12 8RG\, United Kingdom
CATEGORIES:Church Services
END:VEVENT
END:VCALENDAR