BEGIN:VCALENDAR
VERSION:2.0
PRODID:-//All Saints&#039; Church, Gresford - ECPv6.9.0//NONSGML v1.0//EN
CALSCALE:GREGORIAN
METHOD:PUBLISH
X-WR-CALNAME:All Saints&#039; Church, Gresford
X-ORIGINAL-URL:https://www.allsaintschurchgresford.org.uk
X-WR-CALDESC:Events for All Saints&#039; Church, Gresford
REFRESH-INTERVAL;VALUE=DURATION:PT1H
X-Robots-Tag:noindex
X-PUBLISHED-TTL:PT1H
BEGIN:VTIMEZONE
TZID:Europe/London
BEGIN:DAYLIGHT
TZOFFSETFROM:+0000
TZOFFSETTO:+0100
TZNAME:BST
DTSTART:20260329T010000
END:DAYLIGHT
BEGIN:STANDARD
TZOFFSETFROM:+0100
TZOFFSETTO:+0000
TZNAME:GMT
DTSTART:20261025T010000
END:STANDARD
END:VTIMEZONE
BEGIN:VEVENT
DTSTART;TZID=Europe/London:20260301T080000
DTEND;TZID=Europe/London:20260301T090000
DTSTAMP:20260423T160019
CREATED:20241210T225646Z
LAST-MODIFIED:20241211T154948Z
UID:10000847-1772352000-1772355600@www.allsaintschurchgresford.org.uk
SUMMARY:Sunday Worship: Parish Eucharist
DESCRIPTION:
URL:https://www.allsaintschurchgresford.org.uk/event/sunday-worship-parish-eucharist/2026-03-01/
LOCATION:All Saints’ Church\, Gresford\, The Green\, Gresford\, Wrexham\, Wrexham\, LL12 8RG\, United Kingdom
CATEGORIES:Church Services
END:VEVENT
BEGIN:VEVENT
DTSTART;TZID=Europe/London:20260301T110000
DTEND;TZID=Europe/London:20260301T120000
DTSTAMP:20260423T160019
CREATED:20241210T230612Z
LAST-MODIFIED:20250528T195704Z
UID:10001108-1772362800-1772366400@www.allsaintschurchgresford.org.uk
SUMMARY:Sunday Worship: Parish Eucharist (Family Eucharist 1st Sunday of the month)
DESCRIPTION:
URL:https://www.allsaintschurchgresford.org.uk/event/sunday-worship-parish-eucharist-2/2026-03-01/
LOCATION:All Saints’ Church\, Gresford\, The Green\, Gresford\, Wrexham\, Wrexham\, LL12 8RG\, United Kingdom
CATEGORIES:Church Services
END:VEVENT
BEGIN:VEVENT
DTSTART;TZID=Europe/London:20260304T100000
DTEND;TZID=Europe/London:20260304T110000
DTSTAMP:20260423T160019
CREATED:20250502T105136Z
LAST-MODIFIED:20250502T105300Z
UID:10001614-1772618400-1772622000@www.allsaintschurchgresford.org.uk
SUMMARY:Mid-Week Service: Holy Eucharist
DESCRIPTION:
URL:https://www.allsaintschurchgresford.org.uk/event/mid-week-service-holy-eucharist-2/2026-03-04/
LOCATION:All Saints’ Church\, Gresford\, The Green\, Gresford\, Wrexham\, Wrexham\, LL12 8RG\, United Kingdom
CATEGORIES:Church Services
END:VEVENT
BEGIN:VEVENT
DTSTART;TZID=Europe/London:20260308T080000
DTEND;TZID=Europe/London:20260308T090000
DTSTAMP:20260423T160019
CREATED:20241210T225646Z
LAST-MODIFIED:20241211T154948Z
UID:10000848-1772956800-1772960400@www.allsaintschurchgresford.org.uk
SUMMARY:Sunday Worship: Parish Eucharist
DESCRIPTION:
URL:https://www.allsaintschurchgresford.org.uk/event/sunday-worship-parish-eucharist/2026-03-08/
LOCATION:All Saints’ Church\, Gresford\, The Green\, Gresford\, Wrexham\, Wrexham\, LL12 8RG\, United Kingdom
CATEGORIES:Church Services
END:VEVENT
BEGIN:VEVENT
DTSTART;TZID=Europe/London:20260308T110000
DTEND;TZID=Europe/London:20260308T120000
DTSTAMP:20260423T160019
CREATED:20241210T230612Z
LAST-MODIFIED:20250528T195704Z
UID:10001109-1772967600-1772971200@www.allsaintschurchgresford.org.uk
SUMMARY:Sunday Worship: Parish Eucharist (Family Eucharist 1st Sunday of the month)
DESCRIPTION:
URL:https://www.allsaintschurchgresford.org.uk/event/sunday-worship-parish-eucharist-2/2026-03-08/
LOCATION:All Saints’ Church\, Gresford\, The Green\, Gresford\, Wrexham\, Wrexham\, LL12 8RG\, United Kingdom
CATEGORIES:Church Services
END:VEVENT
BEGIN:VEVENT
DTSTART;TZID=Europe/London:20260311T100000
DTEND;TZID=Europe/London:20260311T110000
DTSTAMP:20260423T160019
CREATED:20250502T105136Z
LAST-MODIFIED:20250502T105300Z
UID:10001615-1773223200-1773226800@www.allsaintschurchgresford.org.uk
SUMMARY:Mid-Week Service: Holy Eucharist
DESCRIPTION:
URL:https://www.allsaintschurchgresford.org.uk/event/mid-week-service-holy-eucharist-2/2026-03-11/
LOCATION:All Saints’ Church\, Gresford\, The Green\, Gresford\, Wrexham\, Wrexham\, LL12 8RG\, United Kingdom
CATEGORIES:Church Services
END:VEVENT
BEGIN:VEVENT
DTSTART;TZID=Europe/London:20260315T080000
DTEND;TZID=Europe/London:20260315T090000
DTSTAMP:20260423T160019
CREATED:20241210T225646Z
LAST-MODIFIED:20241211T154948Z
UID:10000849-1773561600-1773565200@www.allsaintschurchgresford.org.uk
SUMMARY:Sunday Worship: Parish Eucharist
DESCRIPTION:
URL:https://www.allsaintschurchgresford.org.uk/event/sunday-worship-parish-eucharist/2026-03-15/
LOCATION:All Saints’ Church\, Gresford\, The Green\, Gresford\, Wrexham\, Wrexham\, LL12 8RG\, United Kingdom
CATEGORIES:Church Services
END:VEVENT
BEGIN:VEVENT
DTSTART;TZID=Europe/London:20260315T110000
DTEND;TZID=Europe/London:20260315T120000
DTSTAMP:20260423T160019
CREATED:20241210T230612Z
LAST-MODIFIED:20250528T195704Z
UID:10001110-1773572400-1773576000@www.allsaintschurchgresford.org.uk
SUMMARY:Sunday Worship: Parish Eucharist (Family Eucharist 1st Sunday of the month)
DESCRIPTION:
URL:https://www.allsaintschurchgresford.org.uk/event/sunday-worship-parish-eucharist-2/2026-03-15/
LOCATION:All Saints’ Church\, Gresford\, The Green\, Gresford\, Wrexham\, Wrexham\, LL12 8RG\, United Kingdom
CATEGORIES:Church Services
END:VEVENT
BEGIN:VEVENT
DTSTART;TZID=Europe/London:20260318T100000
DTEND;TZID=Europe/London:20260318T110000
DTSTAMP:20260423T160019
CREATED:20250502T105136Z
LAST-MODIFIED:20250502T105300Z
UID:10001616-1773828000-1773831600@www.allsaintschurchgresford.org.uk
SUMMARY:Mid-Week Service: Holy Eucharist
DESCRIPTION:
URL:https://www.allsaintschurchgresford.org.uk/event/mid-week-service-holy-eucharist-2/2026-03-18/
LOCATION:All Saints’ Church\, Gresford\, The Green\, Gresford\, Wrexham\, Wrexham\, LL12 8RG\, United Kingdom
CATEGORIES:Church Services
END:VEVENT
BEGIN:VEVENT
DTSTART;TZID=Europe/London:20260322T080000
DTEND;TZID=Europe/London:20260322T090000
DTSTAMP:20260423T160019
CREATED:20241210T225646Z
LAST-MODIFIED:20241211T154948Z
UID:10000850-1774166400-1774170000@www.allsaintschurchgresford.org.uk
SUMMARY:Sunday Worship: Parish Eucharist
DESCRIPTION:
URL:https://www.allsaintschurchgresford.org.uk/event/sunday-worship-parish-eucharist/2026-03-22/
LOCATION:All Saints’ Church\, Gresford\, The Green\, Gresford\, Wrexham\, Wrexham\, LL12 8RG\, United Kingdom
CATEGORIES:Church Services
END:VEVENT
BEGIN:VEVENT
DTSTART;TZID=Europe/London:20260322T110000
DTEND;TZID=Europe/London:20260322T120000
DTSTAMP:20260423T160019
CREATED:20241210T230612Z
LAST-MODIFIED:20250528T195704Z
UID:10001111-1774177200-1774180800@www.allsaintschurchgresford.org.uk
SUMMARY:Sunday Worship: Parish Eucharist (Family Eucharist 1st Sunday of the month)
DESCRIPTION:
URL:https://www.allsaintschurchgresford.org.uk/event/sunday-worship-parish-eucharist-2/2026-03-22/
LOCATION:All Saints’ Church\, Gresford\, The Green\, Gresford\, Wrexham\, Wrexham\, LL12 8RG\, United Kingdom
CATEGORIES:Church Services
END:VEVENT
BEGIN:VEVENT
DTSTART;TZID=Europe/London:20260325T100000
DTEND;TZID=Europe/London:20260325T110000
DTSTAMP:20260423T160019
CREATED:20250502T105136Z
LAST-MODIFIED:20250502T105300Z
UID:10001617-1774432800-1774436400@www.allsaintschurchgresford.org.uk
SUMMARY:Mid-Week Service: Holy Eucharist
DESCRIPTION:
URL:https://www.allsaintschurchgresford.org.uk/event/mid-week-service-holy-eucharist-2/2026-03-25/
LOCATION:All Saints’ Church\, Gresford\, The Green\, Gresford\, Wrexham\, Wrexham\, LL12 8RG\, United Kingdom
CATEGORIES:Church Services
END:VEVENT
BEGIN:VEVENT
DTSTART;TZID=Europe/London:20260329T080000
DTEND;TZID=Europe/London:20260329T090000
DTSTAMP:20260423T160019
CREATED:20241210T225646Z
LAST-MODIFIED:20241211T154948Z
UID:10000851-1774771200-1774774800@www.allsaintschurchgresford.org.uk
SUMMARY:Sunday Worship: Parish Eucharist
DESCRIPTION:
URL:https://www.allsaintschurchgresford.org.uk/event/sunday-worship-parish-eucharist/2026-03-29/
LOCATION:All Saints’ Church\, Gresford\, The Green\, Gresford\, Wrexham\, Wrexham\, LL12 8RG\, United Kingdom
CATEGORIES:Church Services
END:VEVENT
BEGIN:VEVENT
DTSTART;TZID=Europe/London:20260329T110000
DTEND;TZID=Europe/London:20260329T120000
DTSTAMP:20260423T160019
CREATED:20241210T230612Z
LAST-MODIFIED:20250528T195704Z
UID:10001112-1774782000-1774785600@www.allsaintschurchgresford.org.uk
SUMMARY:Sunday Worship: Parish Eucharist (Family Eucharist 1st Sunday of the month)
DESCRIPTION:
URL:https://www.allsaintschurchgresford.org.uk/event/sunday-worship-parish-eucharist-2/2026-03-29/
LOCATION:All Saints’ Church\, Gresford\, The Green\, Gresford\, Wrexham\, Wrexham\, LL12 8RG\, United Kingdom
CATEGORIES:Church Services
END:VEVENT
END:VCALENDAR