BEGIN:VCALENDAR
VERSION:2.0
PRODID:-//All Saints&#039; Church, Gresford - ECPv6.9.0//NONSGML v1.0//EN
CALSCALE:GREGORIAN
METHOD:PUBLISH
X-ORIGINAL-URL:https://www.allsaintschurchgresford.org.uk
X-WR-CALDESC:Events for All Saints&#039; Church, Gresford
REFRESH-INTERVAL;VALUE=DURATION:PT1H
X-Robots-Tag:noindex
X-PUBLISHED-TTL:PT1H
BEGIN:VTIMEZONE
TZID:Europe/London
BEGIN:DAYLIGHT
TZOFFSETFROM:+0000
TZOFFSETTO:+0100
TZNAME:BST
DTSTART:20250330T010000
END:DAYLIGHT
BEGIN:STANDARD
TZOFFSETFROM:+0100
TZOFFSETTO:+0000
TZNAME:GMT
DTSTART:20251026T010000
END:STANDARD
END:VTIMEZONE
BEGIN:VEVENT
DTSTART;TZID=Europe/London:20251001T100000
DTEND;TZID=Europe/London:20251001T110000
DTSTAMP:20260424T002001
CREATED:20250502T105136Z
LAST-MODIFIED:20250502T105300Z
UID:10001592-1759312800-1759316400@www.allsaintschurchgresford.org.uk
SUMMARY:Mid-Week Service: Holy Eucharist
DESCRIPTION:
URL:https://www.allsaintschurchgresford.org.uk/event/mid-week-service-holy-eucharist-2/2025-10-01/
LOCATION:All Saints’ Church\, Gresford\, The Green\, Gresford\, Wrexham\, Wrexham\, LL12 8RG\, United Kingdom
CATEGORIES:Church Services
END:VEVENT
BEGIN:VEVENT
DTSTART;TZID=Europe/London:20251005T080000
DTEND;TZID=Europe/London:20251005T090000
DTSTAMP:20260424T002001
CREATED:20241210T225646Z
LAST-MODIFIED:20241211T154948Z
UID:10000826-1759651200-1759654800@www.allsaintschurchgresford.org.uk
SUMMARY:Sunday Worship: Parish Eucharist
DESCRIPTION:
URL:https://www.allsaintschurchgresford.org.uk/event/sunday-worship-parish-eucharist/2025-10-05/
LOCATION:All Saints’ Church\, Gresford\, The Green\, Gresford\, Wrexham\, Wrexham\, LL12 8RG\, United Kingdom
CATEGORIES:Church Services
END:VEVENT
BEGIN:VEVENT
DTSTART;TZID=Europe/London:20251005T110000
DTEND;TZID=Europe/London:20251005T120000
DTSTAMP:20260424T002001
CREATED:20241210T230612Z
LAST-MODIFIED:20250528T195704Z
UID:10001087-1759662000-1759665600@www.allsaintschurchgresford.org.uk
SUMMARY:Sunday Worship: Parish Eucharist (Family Eucharist 1st Sunday of the month)
DESCRIPTION:
URL:https://www.allsaintschurchgresford.org.uk/event/sunday-worship-parish-eucharist-2/2025-10-05/
LOCATION:All Saints’ Church\, Gresford\, The Green\, Gresford\, Wrexham\, Wrexham\, LL12 8RG\, United Kingdom
CATEGORIES:Church Services
END:VEVENT
BEGIN:VEVENT
DTSTART;TZID=Europe/London:20251008T100000
DTEND;TZID=Europe/London:20251008T110000
DTSTAMP:20260424T002001
CREATED:20250502T105136Z
LAST-MODIFIED:20250502T105300Z
UID:10001593-1759917600-1759921200@www.allsaintschurchgresford.org.uk
SUMMARY:Mid-Week Service: Holy Eucharist
DESCRIPTION:
URL:https://www.allsaintschurchgresford.org.uk/event/mid-week-service-holy-eucharist-2/2025-10-08/
LOCATION:All Saints’ Church\, Gresford\, The Green\, Gresford\, Wrexham\, Wrexham\, LL12 8RG\, United Kingdom
CATEGORIES:Church Services
END:VEVENT
BEGIN:VEVENT
DTSTART;TZID=Europe/London:20251012T080000
DTEND;TZID=Europe/London:20251012T090000
DTSTAMP:20260424T002002
CREATED:20241210T225646Z
LAST-MODIFIED:20241211T154948Z
UID:10000827-1760256000-1760259600@www.allsaintschurchgresford.org.uk
SUMMARY:Sunday Worship: Parish Eucharist
DESCRIPTION:
URL:https://www.allsaintschurchgresford.org.uk/event/sunday-worship-parish-eucharist/2025-10-12/
LOCATION:All Saints’ Church\, Gresford\, The Green\, Gresford\, Wrexham\, Wrexham\, LL12 8RG\, United Kingdom
CATEGORIES:Church Services
END:VEVENT
BEGIN:VEVENT
DTSTART;TZID=Europe/London:20251012T110000
DTEND;TZID=Europe/London:20251012T120000
DTSTAMP:20260424T002002
CREATED:20241210T230612Z
LAST-MODIFIED:20250528T195704Z
UID:10001088-1760266800-1760270400@www.allsaintschurchgresford.org.uk
SUMMARY:Sunday Worship: Parish Eucharist (Family Eucharist 1st Sunday of the month)
DESCRIPTION:
URL:https://www.allsaintschurchgresford.org.uk/event/sunday-worship-parish-eucharist-2/2025-10-12/
LOCATION:All Saints’ Church\, Gresford\, The Green\, Gresford\, Wrexham\, Wrexham\, LL12 8RG\, United Kingdom
CATEGORIES:Church Services
END:VEVENT
BEGIN:VEVENT
DTSTART;TZID=Europe/London:20251015T100000
DTEND;TZID=Europe/London:20251015T110000
DTSTAMP:20260424T002002
CREATED:20250502T105136Z
LAST-MODIFIED:20250502T105300Z
UID:10001594-1760522400-1760526000@www.allsaintschurchgresford.org.uk
SUMMARY:Mid-Week Service: Holy Eucharist
DESCRIPTION:
URL:https://www.allsaintschurchgresford.org.uk/event/mid-week-service-holy-eucharist-2/2025-10-15/
LOCATION:All Saints’ Church\, Gresford\, The Green\, Gresford\, Wrexham\, Wrexham\, LL12 8RG\, United Kingdom
CATEGORIES:Church Services
END:VEVENT
BEGIN:VEVENT
DTSTART;TZID=Europe/London:20251019T080000
DTEND;TZID=Europe/London:20251019T090000
DTSTAMP:20260424T002002
CREATED:20241210T225646Z
LAST-MODIFIED:20241211T154948Z
UID:10000828-1760860800-1760864400@www.allsaintschurchgresford.org.uk
SUMMARY:Sunday Worship: Parish Eucharist
DESCRIPTION:
URL:https://www.allsaintschurchgresford.org.uk/event/sunday-worship-parish-eucharist/2025-10-19/
LOCATION:All Saints’ Church\, Gresford\, The Green\, Gresford\, Wrexham\, Wrexham\, LL12 8RG\, United Kingdom
CATEGORIES:Church Services
END:VEVENT
BEGIN:VEVENT
DTSTART;TZID=Europe/London:20251019T110000
DTEND;TZID=Europe/London:20251019T120000
DTSTAMP:20260424T002002
CREATED:20241210T230612Z
LAST-MODIFIED:20250528T195704Z
UID:10001089-1760871600-1760875200@www.allsaintschurchgresford.org.uk
SUMMARY:Sunday Worship: Parish Eucharist (Family Eucharist 1st Sunday of the month)
DESCRIPTION:
URL:https://www.allsaintschurchgresford.org.uk/event/sunday-worship-parish-eucharist-2/2025-10-19/
LOCATION:All Saints’ Church\, Gresford\, The Green\, Gresford\, Wrexham\, Wrexham\, LL12 8RG\, United Kingdom
CATEGORIES:Church Services
END:VEVENT
BEGIN:VEVENT
DTSTART;TZID=Europe/London:20251022T100000
DTEND;TZID=Europe/London:20251022T110000
DTSTAMP:20260424T002002
CREATED:20250502T105136Z
LAST-MODIFIED:20250502T105300Z
UID:10001595-1761127200-1761130800@www.allsaintschurchgresford.org.uk
SUMMARY:Mid-Week Service: Holy Eucharist
DESCRIPTION:
URL:https://www.allsaintschurchgresford.org.uk/event/mid-week-service-holy-eucharist-2/2025-10-22/
LOCATION:All Saints’ Church\, Gresford\, The Green\, Gresford\, Wrexham\, Wrexham\, LL12 8RG\, United Kingdom
CATEGORIES:Church Services
END:VEVENT
BEGIN:VEVENT
DTSTART;TZID=Europe/London:20251026T080000
DTEND;TZID=Europe/London:20251026T090000
DTSTAMP:20260424T002002
CREATED:20241210T225646Z
LAST-MODIFIED:20241211T154948Z
UID:10000829-1761465600-1761469200@www.allsaintschurchgresford.org.uk
SUMMARY:Sunday Worship: Parish Eucharist
DESCRIPTION:
URL:https://www.allsaintschurchgresford.org.uk/event/sunday-worship-parish-eucharist/2025-10-26/
LOCATION:All Saints’ Church\, Gresford\, The Green\, Gresford\, Wrexham\, Wrexham\, LL12 8RG\, United Kingdom
CATEGORIES:Church Services
END:VEVENT
BEGIN:VEVENT
DTSTART;TZID=Europe/London:20251026T110000
DTEND;TZID=Europe/London:20251026T120000
DTSTAMP:20260424T002002
CREATED:20241210T230612Z
LAST-MODIFIED:20250528T195704Z
UID:10001090-1761476400-1761480000@www.allsaintschurchgresford.org.uk
SUMMARY:Sunday Worship: Parish Eucharist (Family Eucharist 1st Sunday of the month)
DESCRIPTION:
URL:https://www.allsaintschurchgresford.org.uk/event/sunday-worship-parish-eucharist-2/2025-10-26/
LOCATION:All Saints’ Church\, Gresford\, The Green\, Gresford\, Wrexham\, Wrexham\, LL12 8RG\, United Kingdom
CATEGORIES:Church Services
END:VEVENT
BEGIN:VEVENT
DTSTART;TZID=Europe/London:20251029T100000
DTEND;TZID=Europe/London:20251029T110000
DTSTAMP:20260424T002002
CREATED:20250502T105136Z
LAST-MODIFIED:20250502T105300Z
UID:10001596-1761732000-1761735600@www.allsaintschurchgresford.org.uk
SUMMARY:Mid-Week Service: Holy Eucharist
DESCRIPTION:
URL:https://www.allsaintschurchgresford.org.uk/event/mid-week-service-holy-eucharist-2/2025-10-29/
LOCATION:All Saints’ Church\, Gresford\, The Green\, Gresford\, Wrexham\, Wrexham\, LL12 8RG\, United Kingdom
CATEGORIES:Church Services
END:VEVENT
END:VCALENDAR