BEGIN:VCALENDAR
VERSION:2.0
PRODID:-//All Saints&#039; Church, Gresford - ECPv6.9.0//NONSGML v1.0//EN
CALSCALE:GREGORIAN
METHOD:PUBLISH
X-ORIGINAL-URL:https://www.allsaintschurchgresford.org.uk
X-WR-CALDESC:Events for All Saints&#039; Church, Gresford
REFRESH-INTERVAL;VALUE=DURATION:PT1H
X-Robots-Tag:noindex
X-PUBLISHED-TTL:PT1H
BEGIN:VTIMEZONE
TZID:Europe/London
BEGIN:DAYLIGHT
TZOFFSETFROM:+0000
TZOFFSETTO:+0100
TZNAME:BST
DTSTART:20240331T010000
END:DAYLIGHT
BEGIN:STANDARD
TZOFFSETFROM:+0100
TZOFFSETTO:+0000
TZNAME:GMT
DTSTART:20241027T010000
END:STANDARD
END:VTIMEZONE
BEGIN:VEVENT
DTSTART;TZID=Europe/London:20241212T100000
DTEND;TZID=Europe/London:20241212T110000
DTSTAMP:20260424T154939
CREATED:20241211T165252Z
LAST-MODIFIED:20241211T165252Z
UID:10001312-1733997600-1734001200@www.allsaintschurchgresford.org.uk
SUMMARY:Mid-Week Service: Holy Eucharist
DESCRIPTION:
URL:https://www.allsaintschurchgresford.org.uk/event/mid-week-service-holy-eucharist/2024-12-12/
LOCATION:All Saints’ Church\, Gresford\, The Green\, Gresford\, Wrexham\, Wrexham\, LL12 8RG\, United Kingdom
CATEGORIES:Church Services
END:VEVENT
BEGIN:VEVENT
DTSTART;TZID=Europe/London:20241215T080000
DTEND;TZID=Europe/London:20241215T090000
DTSTAMP:20260424T154939
CREATED:20241210T225646Z
LAST-MODIFIED:20241211T154948Z
UID:10000784-1734249600-1734253200@www.allsaintschurchgresford.org.uk
SUMMARY:Sunday Worship: Parish Eucharist
DESCRIPTION:
URL:https://www.allsaintschurchgresford.org.uk/event/sunday-worship-parish-eucharist/2024-12-15/
LOCATION:All Saints’ Church\, Gresford\, The Green\, Gresford\, Wrexham\, Wrexham\, LL12 8RG\, United Kingdom
CATEGORIES:Church Services
END:VEVENT
BEGIN:VEVENT
DTSTART;TZID=Europe/London:20241215T080000
DTEND;TZID=Europe/London:20241215T170000
DTSTAMP:20260424T154939
CREATED:20241210T230612Z
LAST-MODIFIED:20250528T195704Z
UID:10001953-1734249600-1734282000@www.allsaintschurchgresford.org.uk
SUMMARY:Sunday Worship: Parish Eucharist (Family Eucharist 1st Sunday of the month)
DESCRIPTION:
URL:https://www.allsaintschurchgresford.org.uk/event/sunday-worship-parish-eucharist-2/2024-12-15/1/
LOCATION:All Saints’ Church\, Gresford\, The Green\, Gresford\, Wrexham\, Wrexham\, LL12 8RG\, United Kingdom
CATEGORIES:Church Services
END:VEVENT
BEGIN:VEVENT
DTSTART;TZID=Europe/London:20241215T110000
DTEND;TZID=Europe/London:20241215T120000
DTSTAMP:20260424T154939
CREATED:20241210T230612Z
LAST-MODIFIED:20250528T195704Z
UID:10001045-1734260400-1734264000@www.allsaintschurchgresford.org.uk
SUMMARY:Sunday Worship: Parish Eucharist (Family Eucharist 1st Sunday of the month)
DESCRIPTION:
URL:https://www.allsaintschurchgresford.org.uk/event/sunday-worship-parish-eucharist-2/2024-12-15/2/
LOCATION:All Saints’ Church\, Gresford\, The Green\, Gresford\, Wrexham\, Wrexham\, LL12 8RG\, United Kingdom
CATEGORIES:Church Services
END:VEVENT
BEGIN:VEVENT
DTSTART;TZID=Europe/London:20241219T100000
DTEND;TZID=Europe/London:20241219T110000
DTSTAMP:20260424T154939
CREATED:20241211T165252Z
LAST-MODIFIED:20241211T165252Z
UID:10001313-1734602400-1734606000@www.allsaintschurchgresford.org.uk
SUMMARY:Mid-Week Service: Holy Eucharist
DESCRIPTION:
URL:https://www.allsaintschurchgresford.org.uk/event/mid-week-service-holy-eucharist/2024-12-19/
LOCATION:All Saints’ Church\, Gresford\, The Green\, Gresford\, Wrexham\, Wrexham\, LL12 8RG\, United Kingdom
CATEGORIES:Church Services
END:VEVENT
BEGIN:VEVENT
DTSTART;TZID=Europe/London:20241222T080000
DTEND;TZID=Europe/London:20241222T090000
DTSTAMP:20260424T154939
CREATED:20241210T225646Z
LAST-MODIFIED:20241211T154948Z
UID:10000785-1734854400-1734858000@www.allsaintschurchgresford.org.uk
SUMMARY:Sunday Worship: Parish Eucharist
DESCRIPTION:
URL:https://www.allsaintschurchgresford.org.uk/event/sunday-worship-parish-eucharist/2024-12-22/
LOCATION:All Saints’ Church\, Gresford\, The Green\, Gresford\, Wrexham\, Wrexham\, LL12 8RG\, United Kingdom
CATEGORIES:Church Services
END:VEVENT
BEGIN:VEVENT
DTSTART;TZID=Europe/London:20241222T110000
DTEND;TZID=Europe/London:20241222T120000
DTSTAMP:20260424T154939
CREATED:20241210T230612Z
LAST-MODIFIED:20250528T195704Z
UID:10001046-1734865200-1734868800@www.allsaintschurchgresford.org.uk
SUMMARY:Sunday Worship: Parish Eucharist (Family Eucharist 1st Sunday of the month)
DESCRIPTION:
URL:https://www.allsaintschurchgresford.org.uk/event/sunday-worship-parish-eucharist-2/2024-12-22/
LOCATION:All Saints’ Church\, Gresford\, The Green\, Gresford\, Wrexham\, Wrexham\, LL12 8RG\, United Kingdom
CATEGORIES:Church Services
END:VEVENT
BEGIN:VEVENT
DTSTART;TZID=Europe/London:20241222T180000
DTEND;TZID=Europe/London:20241222T190000
DTSTAMP:20260424T154939
CREATED:20241211T162020Z
LAST-MODIFIED:20241211T162106Z
UID:10001310-1734890400-1734894000@www.allsaintschurchgresford.org.uk
SUMMARY:Christmas Carol Service
DESCRIPTION:
URL:https://www.allsaintschurchgresford.org.uk/event/carol-service/
LOCATION:All Saints’ Church\, Gresford\, The Green\, Gresford\, Wrexham\, Wrexham\, LL12 8RG\, United Kingdom
CATEGORIES:Church Services
ATTACH;FMTTYPE=image/jpeg:https://www.allsaintschurchgresford.org.uk/wp-content/uploads/2022/11/AdobeStock_184134347-scaled.jpeg
END:VEVENT
BEGIN:VEVENT
DTSTART;TZID=Europe/London:20241224T180000
DTEND;TZID=Europe/London:20241224T190000
DTSTAMP:20260424T154939
CREATED:20241211T161526Z
LAST-MODIFIED:20241211T161526Z
UID:10001309-1735063200-1735066800@www.allsaintschurchgresford.org.uk
SUMMARY:Crib Service
DESCRIPTION:
URL:https://www.allsaintschurchgresford.org.uk/event/crib-service/
LOCATION:All Saints’ Church\, Gresford\, The Green\, Gresford\, Wrexham\, Wrexham\, LL12 8RG\, United Kingdom
CATEGORIES:Church Services
END:VEVENT
BEGIN:VEVENT
DTSTART;TZID=Europe/London:20241224T233000
DTEND;TZID=Europe/London:20241225T003000
DTSTAMP:20260424T154939
CREATED:20241211T155237Z
LAST-MODIFIED:20241211T155237Z
UID:10001308-1735083000-1735086600@www.allsaintschurchgresford.org.uk
SUMMARY:Midnight Mass
DESCRIPTION:
URL:https://www.allsaintschurchgresford.org.uk/event/midnight-mass/
LOCATION:All Saints’ Church\, Gresford\, The Green\, Gresford\, Wrexham\, Wrexham\, LL12 8RG\, United Kingdom
CATEGORIES:Church Services
END:VEVENT
BEGIN:VEVENT
DTSTART;TZID=Europe/London:20241225T100000
DTEND;TZID=Europe/London:20241225T110000
DTSTAMP:20260424T154939
CREATED:20241211T155119Z
LAST-MODIFIED:20241211T155119Z
UID:10001307-1735120800-1735124400@www.allsaintschurchgresford.org.uk
SUMMARY:Holy Eucharist
DESCRIPTION:
URL:https://www.allsaintschurchgresford.org.uk/event/holy-eucharist-2/
LOCATION:All Saints’ Church\, Gresford\, The Green\, Gresford\, Wrexham\, Wrexham\, LL12 8RG\, United Kingdom
CATEGORIES:Church Services
END:VEVENT
BEGIN:VEVENT
DTSTART;TZID=Europe/London:20241226T100000
DTEND;TZID=Europe/London:20241226T110000
DTSTAMP:20260424T154939
CREATED:20241211T154918Z
LAST-MODIFIED:20241211T154918Z
UID:10001306-1735207200-1735210800@www.allsaintschurchgresford.org.uk
SUMMARY:Holy Eucharist
DESCRIPTION:
URL:https://www.allsaintschurchgresford.org.uk/event/holy-eucharist/
LOCATION:All Saints’ Church\, Gresford\, The Green\, Gresford\, Wrexham\, Wrexham\, LL12 8RG\, United Kingdom
CATEGORIES:Church Services
END:VEVENT
BEGIN:VEVENT
DTSTART;TZID=Europe/London:20241229T080000
DTEND;TZID=Europe/London:20241229T090000
DTSTAMP:20260424T154939
CREATED:20241210T225646Z
LAST-MODIFIED:20241211T154948Z
UID:10000786-1735459200-1735462800@www.allsaintschurchgresford.org.uk
SUMMARY:Sunday Worship: Parish Eucharist
DESCRIPTION:
URL:https://www.allsaintschurchgresford.org.uk/event/sunday-worship-parish-eucharist/2024-12-29/
LOCATION:All Saints’ Church\, Gresford\, The Green\, Gresford\, Wrexham\, Wrexham\, LL12 8RG\, United Kingdom
CATEGORIES:Church Services
END:VEVENT
BEGIN:VEVENT
DTSTART;TZID=Europe/London:20241229T110000
DTEND;TZID=Europe/London:20241229T120000
DTSTAMP:20260424T154939
CREATED:20241210T230612Z
LAST-MODIFIED:20250528T195704Z
UID:10001047-1735470000-1735473600@www.allsaintschurchgresford.org.uk
SUMMARY:Sunday Worship: Parish Eucharist (Family Eucharist 1st Sunday of the month)
DESCRIPTION:
URL:https://www.allsaintschurchgresford.org.uk/event/sunday-worship-parish-eucharist-2/2024-12-29/
LOCATION:All Saints’ Church\, Gresford\, The Green\, Gresford\, Wrexham\, Wrexham\, LL12 8RG\, United Kingdom
CATEGORIES:Church Services
END:VEVENT
END:VCALENDAR